BEGIN:VCALENDAR
VERSION:2.0
PRODID:-//ChamberMaster//Event Calendar 2.0//EN
METHOD:PUBLISH
X-PUBLISHED-TTL:P3D
REFRESH-INTERVAL:P3D
CALSCALE:GREGORIAN
BEGIN:VEVENT
DTSTART;VALUE=DATE:20160125
DTEND;VALUE=DATE:20160126
TRANSP:TRANSPARENT
X-MICROSOFT-CDO-ALLDAYEVENT:TRUE
SUMMARY:1000 Books Before Kindergarten
DESCRIPTION:Families are invited to join the 1\,000 Books Before Kindergarten program at the North Shelby Library. This ongoing program is a nationwide challenge that encourages parents and caregivers to regularly read aloud to their children. By reading just one book a night\, families can reach the 1\,000-book goal in three years and provide their children essential early literacy skills. Sign up at the children's desk starting January 25th to get your child on track to a lifelong love of reading! Open to families with children between the ages of birth through five. Registration required.
X-ALT-DESC;FMTTYPE=text/html:Families are invited to join the 1\,000 Books Before Kindergarten program at the North Shelby Library. This ongoing program is a nationwide challenge that encourages parents and caregivers to regularly read aloud to their children. By reading just one book a night\, families can reach the 1\,000-book goal in three years and provide their children essential early literacy skills. Sign up at the children&rsquo\;s desk starting January 25<sup>th</sup> to get your child on track to a lifelong love of reading! Open to families with children between the ages of birth through five. Registration required.&nbsp\;
LOCATION:5521 Cahaba Valley Road\, Birmingham AL 35242
UID:e.145.8227
SEQUENCE:3
DTSTAMP:20260422T110434Z
URL:https://business.shelbychamber.org/events/details/1000-books-before-kindergarten-01-25-2016-8227
END:VEVENT

END:VCALENDAR
