BEGIN:VCALENDAR
VERSION:2.0
PRODID:-//ChamberMaster//Event Calendar 2.0//EN
METHOD:PUBLISH
X-PUBLISHED-TTL:P3D
REFRESH-INTERVAL:P3D
CALSCALE:GREGORIAN
BEGIN:VEVENT
DTSTART:20160618T150000Z
DTEND:20160618T170000Z
X-MICROSOFT-CDO-ALLDAYEVENT:FALSE
SUMMARY:1000 Books Before Kindergarten Kickoff Event
DESCRIPTION:Kids enjoy crafts and stories while parents can get information from educational and early childhood experts from within the community! Snacks will be served. Come learn more about our program for the youngest readers! No registration required.
X-ALT-DESC;FMTTYPE=text/html:<span style="font-family:calibri light\,sans-serif">Kids enjoy crafts and stories while parents can get information from educational and early childhood experts from within the community! Snacks will be served. Come learn more about our program for the youngest readers! No registration required.&nbsp\;</span>
LOCATION:North Shelby Library
UID:e.145.9535
SEQUENCE:3
DTSTAMP:20260422T043557Z
URL:https://business.shelbychamber.org/events/details/1000-books-before-kindergarten-kickoff-event-06-18-2016-9535
END:VEVENT

END:VCALENDAR
