BEGIN:VCALENDAR
VERSION:2.0
PRODID:-//ChamberMaster//Event Calendar 2.0//EN
METHOD:PUBLISH
X-PUBLISHED-TTL:P3D
REFRESH-INTERVAL:P3D
CALSCALE:GREGORIAN
BEGIN:VEVENT
DTSTART:20130309T200000Z
DTEND:20130309T220000Z
X-MICROSOFT-CDO-ALLDAYEVENT:FALSE
SUMMARY:10th Year Anniversary Open House Fitness Together Greystone
DESCRIPTION:Fitness Together Greystone is hosting their 10th Year Anniversary Celebration on Saturday\, March 9th from 2-4pm. Offerig Free Training Classes  through out the day beginning at 2:15. Call to reserve your spot at 981-2454\n\nGiving 10% off to all new clients for the month of March\n\nFree Health Screenings\n\nCooking Demonstrations by Dales Southern Grill\n\nChildren's activities\n\nRaffle Prizes
X-ALT-DESC;FMTTYPE=text/html:Fitness Together Greystone is hosting their 10th Year Anniversary Celebration on Saturday\, March 9th from 2-4pm. Offerig Free Training Classes &nbsp\;through out the day beginning at 2:15. Call to reserve your spot at 981-2454<br />\nGiving 10% off to all new clients for the month of March<br />\nFree Health Screenings<br />\nCooking Demonstrations by Dales Southern Grill<br />\nChildren&#39\;s activities<br />\nRaffle Prizes
LOCATION:Fitness Together Greystone 5361 Hwy 280 South
UID:e.145.4535
SEQUENCE:3
DTSTAMP:20260424T160020Z
URL:https://business.shelbychamber.org/events/details/10th-year-anniversary-open-house-fitness-together-greystone-03-09-2013-4535
END:VEVENT

END:VCALENDAR
