BEGIN:VCALENDAR
VERSION:2.0
PRODID:-//ChamberMaster//Event Calendar 2.0//EN
METHOD:PUBLISH
X-PUBLISHED-TTL:P3D
REFRESH-INTERVAL:P3D
CALSCALE:GREGORIAN
BEGIN:VEVENT
DTSTART;VALUE=DATE:20161007
DTEND;VALUE=DATE:20161010
TRANSP:TRANSPARENT
X-MICROSOFT-CDO-ALLDAYEVENT:TRUE
SUMMARY:12th Annual Barber Vintage Festival
DESCRIPTION:The 12th Annual Barber Vintage Festival is one of the most highly anticipated motorcycle events in the world. The three-day festival features the America's First Federal Credit Union Fan Zone\, which offers food\, entertainment\, Ace Corner Caf '\, a Century Parade\, Swap Meet with hundreds of vendors\, Wall of Death\, Globe of Death and much more! Tickets start at only $25. Visit www.barbermotorsports.com.
X-ALT-DESC;FMTTYPE=text/html:The 12th Annual Barber Vintage Festival is one of the most highly anticipated motorcycle events in the world. The three-day festival features the America&rsquo\;s First Federal Credit Union Fan Zone\, which offers food\, entertainment\, Ace Corner Caf&eacute\;&rsquo\;\, a Century Parade\, Swap Meet with hundreds of vendors\, Wall of Death\, Globe of Death and much more! Tickets start at only $25. Visit www.barbermotorsports.com.
LOCATION:Barber Motorsports Park
UID:e.145.9726
SEQUENCE:3
DTSTAMP:20260421T165205Z
URL:https://business.shelbychamber.org/events/details/12th-annual-barber-vintage-festival-9726
END:VEVENT

END:VCALENDAR
