BEGIN:VCALENDAR
VERSION:2.0
PRODID:-//ChamberMaster//Event Calendar 2.0//EN
METHOD:PUBLISH
X-PUBLISHED-TTL:P3D
REFRESH-INTERVAL:P3D
CALSCALE:GREGORIAN
BEGIN:VEVENT
DTSTART:20160403T180000Z
DTEND:20160403T223000Z
X-MICROSOFT-CDO-ALLDAYEVENT:FALSE
SUMMARY:1st Annual Team Hope Walk to End Huntington's Disease
DESCRIPTION:Walk with us as we support the mission of the Huntington's Disease Society of America to improve the lives of everyone with Huntington's Disease! We aim to raise as much money as possible in the local community and to show our support for everyone whose life has been affected by this fatal genetic brain disease\, which currently has no known cure. This walk will take place on April 3rd from 2:00-5:30 at Oak Mountain State Park. Registration begins at 1:00. Tax-deductible donation and sponsorship opportunities can be obtained by emailing Ellen Grappe at etgrappe@uab.edu.
X-ALT-DESC;FMTTYPE=text/html:Walk with us as we support the mission of the Huntington&#39\;s Disease Society of America to improve the lives of everyone with Huntington&#39\;s Disease! We aim to raise as much money as possible in the local community and to show our support for everyone whose life has been affected by this fatal genetic brain disease\, which currently has no known cure. This walk will take place on April 3rd from 2:00-5:30 at Oak Mountain State Park. Registration begins at 1:00. Tax-deductible donation and sponsorship opportunities can be obtained by emailing Ellen Grappe at etgrappe@uab.edu.
LOCATION:Oak Mountain State Park Pelham\, AL
UID:e.145.9404
SEQUENCE:3
DTSTAMP:20260422T063438Z
URL:https://business.shelbychamber.org/events/details/1st-annual-team-hope-walk-to-end-huntington-s-disease-04-03-2016-9404
END:VEVENT

END:VCALENDAR
