BEGIN:VCALENDAR
VERSION:2.0
PRODID:-//ChamberMaster//Event Calendar 2.0//EN
METHOD:PUBLISH
X-PUBLISHED-TTL:P3D
REFRESH-INTERVAL:P3D
CALSCALE:GREGORIAN
BEGIN:VEVENT
DTSTART:20110716T230000Z
DTEND:20110717T020000Z
X-MICROSOFT-CDO-ALLDAYEVENT:FALSE
SUMMARY:2011 Reagan-Lincoln Dinner Featuring Herman Cain
DESCRIPTION:The Shelby County Republican Party cordially invites you to its 2011 Reagan-Lincoln Dinner\, its annual fundraiser event\, Saturday\, July 16\, 2011\, at The Cahaba Grand\, Birmingham\, Alabama. Keynote speaker is Herman Cain\, Republican Candidate for President. Judge Michael Joiner\, Judge of the Alabama Court of Criminal Appeals and former Shelby County District Judge\, will be honored with the Republican of the Year Award. Reception is at 6:00 p.m. followed by Dinner at 7:00 p.m. Tickets can be purchase by calling 205-665-1795\, or online at www.shelbycountygop.org.
X-ALT-DESC;FMTTYPE=text/html:The Shelby County Republican Party cordially invites you to its 2011 Reagan-Lincoln Dinner\, its annual fundraiser event\, Saturday\, July 16\, 2011\, at The Cahaba Grand\, Birmingham\, Alabama. Keynote speaker is Herman Cain\, Republican Candidate for President. Judge Michael Joiner\, Judge of the Alabama Court of Criminal Appeals and former Shelby County District Judge\, will be honored with the Republican of the Year Award. Reception is at 6:00 p.m. followed by Dinner at 7:00 p.m. Tickets can be purchase by calling 205-665-1795\, or online at <a href="http://www.shelbycountygop.org">www.shelbycountygop.org</a>.
LOCATION:The Cahaba Grand Conference Center 3660 Grandview Parkway Birmingham\, AL 35243
UID:e.145.3456
SEQUENCE:3
DTSTAMP:20260425T232056Z
URL:https://business.shelbychamber.org/events/details/2011-reagan-lincoln-dinner-featuring-herman-cain-07-16-2011-3456
END:VEVENT

END:VCALENDAR
