BEGIN:VCALENDAR
VERSION:2.0
PRODID:-//ChamberMaster//Event Calendar 2.0//EN
METHOD:PUBLISH
X-PUBLISHED-TTL:P3D
REFRESH-INTERVAL:P3D
CALSCALE:GREGORIAN
BEGIN:VEVENT
DTSTART:20120226T200000Z
DTEND:20120226T210000Z
X-MICROSOFT-CDO-ALLDAYEVENT:FALSE
SUMMARY:2012 Eagle Point Jr. Golf Academy Kickoff
DESCRIPTION:
X-ALT-DESC;FMTTYPE=text/html:
LOCATION:Eagle Point Golf Club - Point Room
UID:e.145.3927
SEQUENCE:3
DTSTAMP:20260425T115839Z
URL:https://business.shelbychamber.org/events/details/2012-eagle-point-jr-golf-academy-kickoff-02-26-2012-3927
END:VEVENT

END:VCALENDAR
