BEGIN:VCALENDAR
VERSION:2.0
PRODID:-//ChamberMaster//Event Calendar 2.0//EN
METHOD:PUBLISH
X-PUBLISHED-TTL:P3D
REFRESH-INTERVAL:P3D
CALSCALE:GREGORIAN
BEGIN:VEVENT
DTSTART;VALUE=DATE:20130824
DTEND;VALUE=DATE:20130826
TRANSP:TRANSPARENT
X-MICROSOFT-CDO-ALLDAYEVENT:TRUE
SUMMARY:2013 4-H Youth Leadership Conference
DESCRIPTION:2013 4-H Youth Leadership Conference Information Sheet -- Click for printable PDF for full details.\n\n\n\nWHEN: August 24-25\, 2013\n\n\n\nWHERE: Alabama 4-H Center (Columbiana\, AL)\n\n\n\nWHO: Youth ages 9-13\n\n\n\nWHY: Join us for our 7th Annual 4-H Youth Leadership Conference.\n\n\n\nThis two day even will be action-packed with fun workshops and leadership adventures! Hands-On workshops include:\n\n* Clover Hop\n\n* Leadership\n\n* 4-H Brain Power 101\n\n* Fueling up with Nutrition\n\n\n\nCOST: $85.00 per individual. This includes:\n\n* Lodging\n\n* Meals\n\n* Snacks\n\n* T-Shirt\n\n* Supplies\n\n\n\nThere is a $25.00 non-refundable deposit due July 8th along with registration and Youth Consent Forms. The final balance is due August 5th.\n\n\n\nLeaders in Training everday (LiTe)\n\n* LiTe which stands for Leader in Training every day. This program is for youth that\n\nwould like to assist the teen leaders during the Youth Leadership Conference.\n\nYouth are chosen based on completion of the attached application. Application is\n\nenclosed in this packet and due with pre-registration on July 8th.\n\n\n\n2013 Service Project\n\n* Items for Ronald McDonald House  please bring one of the following items:\n\n* Coffee Cups\n\n* Lysol Wipes\n\n* Deodorant (travel size)\n\n\n\nFor more information\, please contact Joy Maxwell: maxwesj@auburn.edu\n\n205-612-2790 (mobile)\n\n205-926-3117 (work)\n\nwww.alabama4h.com
X-ALT-DESC;FMTTYPE=text/html:<a href="http://cloud.chambermaster.com/userfiles/UserFiles/chambers/145/File/Community%20Events/ylc2013-registrationpacket.pdf">2013 4-H Youth Leadership Conference Information Sheet</a> -- <a href="http://cloud.chambermaster.com/userfiles/UserFiles/chambers/145/File/Community%20Events/ylc2013-registrationpacket.pdf">Click for printable PDF for full details.</a><br />\n<br />\nWHEN: August 24-25\, 2013<br />\n<br />\nWHERE: Alabama 4-H Center (Columbiana\, AL)<br />\n<br />\nWHO: Youth ages 9-13<br />\n<br />\nWHY: Join us for our 7th Annual 4-H Youth Leadership Conference.<br />\n<br />\nThis two day even will be action-packed with fun workshops and leadership adventures! Hands-On workshops include:<br />\n* Clover Hop<br />\n* Leadership<br />\n* 4-H Brain Power 101<br />\n* Fueling up with Nutrition<br />\n<br />\nCOST: $85.00 per individual. This includes:<br />\n* Lodging<br />\n* Meals<br />\n* Snacks<br />\n* T-Shirt<br />\n* Supplies<br />\n<br />\nThere is a $25.00 non-refundable deposit due July 8th along with registration and Youth Consent Forms. The final balance is due August 5th.<br />\n<br />\nLeaders in Training everday (LiTe)<br />\n* LiTe which stands for Leader in Training every day. This program is for youth that<br />\nwould like to assist the teen leaders during the Youth Leadership Conference.<br />\nYouth are chosen based on completion of the attached application. Application is<br />\nenclosed in this packet and due with pre-registration on July 8th.<br />\n<br />\n2013 Service Project<br />\n* Items for Ronald McDonald House&ndash\; please bring one of the following items:<br />\n* Coffee Cups<br />\n* Lysol Wipes<br />\n* Deodorant (travel size)<br />\n<br />\nFor more information\, please contact Joy Maxwell: maxwesj@auburn.edu<br />\n205-612-2790 (mobile)<br />\n205-926-3117 (work)<br />\nwww.alabama4h.com
LOCATION:Alabama 4-H Center (Columbiana\, AL)
UID:e.145.4671
SEQUENCE:3
DTSTAMP:20260424T065459Z
URL:https://business.shelbychamber.org/events/details/2013-4-h-youth-leadership-conference-08-24-2013-4671
END:VEVENT

END:VCALENDAR
