BEGIN:VCALENDAR
VERSION:2.0
PRODID:-//ChamberMaster//Event Calendar 2.0//EN
METHOD:PUBLISH
X-PUBLISHED-TTL:P3D
REFRESH-INTERVAL:P3D
CALSCALE:GREGORIAN
BEGIN:VEVENT
DTSTART;VALUE=DATE:20130625
DTEND;VALUE=DATE:20130626
TRANSP:TRANSPARENT
X-MICROSOFT-CDO-ALLDAYEVENT:TRUE
SUMMARY:2013 Mr. and Miss Liberty Day Picture Pagent
DESCRIPTION:The 2013 Mr. and Miss Liberty Pageant will be a picture pageant. The entry fee is $30.00. If you would like to enter your child in all five categories (including eyes\, hair\, smile\, personality\, and photogenic) the cost is $50.00. If you would also like to enter more than one photo you may for an extra $5.00 each.\n\n\n\nIf you have any questions or are interested in participating please contact Sheila Finley at 205-281-0433. Please do not call her at work. You may also email her at chargermom1@gmail.com.\n\n\n\nClick here for printable entry form.\n\n\n\nAll photos and money must be received by June 25\, 2013. Photos will be judged on Wednesday\, June 26 and  all winners will be notified by email or phone on Thursday\, June 27. All contestants and winners can ride in the Liberty Day Parade on Saturday\, June 29. You will have to contact the City of Columbiana to be on the parade list. You will be responsible for your own float\, truck\, or car.
X-ALT-DESC;FMTTYPE=text/html:The 2013 Mr. and Miss Liberty Pageant will be a picture pageant. The entry fee is $30.00. If you would like to enter your child in all five categories (including eyes\, hair\, smile\, personality\, and photogenic) the cost is $50.00. If you would also like to enter more than one photo you may for an extra $5.00 each.<br />\n<br />\nIf you have any questions or are interested in participating please contact Sheila Finley at 205-281-0433. Please do not call her at work. You may also email her at <a href="mailto:chargermom1@gmail.com?subject=2013%20Mr.%20and%20Miss%20Liberty%20Entry%20Form%20">chargermom1@gmail.com</a>.<br />\n<br />\n<a href="http://cloud.chambermaster.com/userfiles/UserFiles/chambers/145/File/Community%20Events/Mr.MissLibertyDayPgt.pdf">Click here for printable entry form.</a><br />\n<br />\nAll photos and money must be received by June 25\, 2013. Photos will be judged on Wednesday\, June 26 and&nbsp\; all winners will be notified by email or phone on Thursday\, June 27. All contestants and winners can ride in the Liberty Day Parade on Saturday\, June 29. You will have to contact the City of Columbiana to be on the parade list. You will be responsible for your own float\, truck\, or car. 
LOCATION:
UID:e.145.4631
SEQUENCE:3
DTSTAMP:20260424T102906Z
URL:https://business.shelbychamber.org/events/details/2013-mr-and-miss-liberty-day-picture-pagent-06-25-2013-4631
END:VEVENT

END:VCALENDAR
