BEGIN:VCALENDAR
VERSION:2.0
PRODID:-//ChamberMaster//Event Calendar 2.0//EN
METHOD:PUBLISH
X-PUBLISHED-TTL:P3D
REFRESH-INTERVAL:P3D
CALSCALE:GREGORIAN
BEGIN:VEVENT
DTSTART:20130516T140000Z
DTEND:20130516T180000Z
X-MICROSOFT-CDO-ALLDAYEVENT:FALSE
SUMMARY:2013 Shelby County Senior Picnic - Age 55+
DESCRIPTION:GET BACK TO NATURE\n\n\n\nEnjoy the great outdoors at our very own Alabma State Park!\n\nOak Mountain State Park's Double Oak Lake and Beach area\n\n\n\n2013 SHELBY COUNTY SENIOR PICNIC\n\n\n\nTHURSDAY\, MAY 16TH - 9 AM TO 1 PM\n\n\n\nMay is Older Americans Month!\n\nJoin the fun\, as the Seniors of Shelby County play outside!\n\n\n\n. Lunch is on us\n\n. Music\n\n. Vendors\n\n. Door Prizes\n\n. Lake\n\n. Beach\n\n. Wildlife Center\n\n. Farm and Petting Area\n\n. Oak Mt. Interpretive Center\n\n\n\nCall (205) 670-5770 by May 3 to make your reservation.  Please indicate total number in your party.  It is important to have an accurate count for ordering purposes.  Ages 55+ are welcome.  No children\, please.\n\n\n\nFishing is permitted from ADA pier\, during this event.  Please feel free to bring your fishing gear!\n\n\n\nFrom I-65 South\, take exit no. 246\n\nTurn right onto ALl-119 and turn immediately left onto State Park Road (before McDonald's).\n\nTravel 1.5 miles to park entrance.\n\nEntrance Fee will be waived at gate.\n\nProceed and turn right on Terrace Drive.\n\nFollow signs and attendants to drop-off and parking areas.\n\n\n\nHosted by:\n\nShelby County Alabama\n\nMiddle Alabama Area Agency On Aging (M4A)\n\nPositive Maturity RSVP (Retired Senior Volunteer Program)\n\nThe YMCA\n\nAlabama State Parks
X-ALT-DESC;FMTTYPE=text/html:GET BACK TO NATURE<br />\n<br />\nEnjoy the great outdoors at our very own Alabma State Park!<br />\nOak Mountain State Park&#39\;s Double Oak Lake and Beach area<br />\n<br />\n2013 SHELBY COUNTY SENIOR PICNIC<br />\n<br />\nTHURSDAY\, MAY 16TH - 9 AM TO 1 PM<br />\n<br />\nMay is Older Americans Month!<br />\nJoin the fun\, as the Seniors of Shelby County play outside!<br />\n<br />\n. Lunch is on us<br />\n. Music<br />\n. Vendors<br />\n. Door Prizes<br />\n. Lake<br />\n. Beach<br />\n. Wildlife Center<br />\n. Farm and Petting Area<br />\n. Oak Mt. Interpretive Center<br />\n<br />\nCall (205) 670-5770 by May 3 to make your reservation.&nbsp\; Please indicate total number in your party.&nbsp\; It is important to have an accurate count for ordering purposes.&nbsp\; Ages 55+ are welcome.&nbsp\; No children\, please.<br />\n<br />\nFishing is permitted from ADA pier\, during this event.&nbsp\; Please feel free to bring your fishing gear!<br />\n<br />\nFrom I-65 South\, take exit no. 246<br />\nTurn right onto ALl-119 and turn immediately left onto State Park Road (before McDonald&#39\;s).<br />\nTravel 1.5 miles to park entrance.<br />\nEntrance Fee will be waived at gate.<br />\nProceed and turn right on Terrace Drive.<br />\nFollow signs and attendants to drop-off and parking areas.<br />\n<br />\nHosted by:<br />\nShelby County Alabama<br />\nMiddle Alabama Area Agency On Aging (M4A)<br />\nPositive Maturity RSVP (Retired Senior Volunteer Program)<br />\nThe YMCA<br />\nAlabama State Parks<br />\n
LOCATION:Oak Mountain State Park's Double Oak Lake and Beach Area Directions: From I-65 South\, take exit no. 246 Turn right onto ALl-119 and turn immediately left onto State Park Road (before McDonald's). Travel 1.5 miles to park entrance. Entrance Fee will be waived at gate. Proceed and turn right on Terrace Drive. Follow signs and attendants to drop-off and parking areas.
UID:e.145.4606
SEQUENCE:3
DTSTAMP:20260424T134114Z
URL:https://business.shelbychamber.org/events/details/2013-shelby-county-senior-picnic-age-55-05-16-2013-4606
END:VEVENT

END:VCALENDAR
