BEGIN:VCALENDAR
VERSION:2.0
PRODID:-//ChamberMaster//Event Calendar 2.0//EN
METHOD:PUBLISH
X-PUBLISHED-TTL:P3D
REFRESH-INTERVAL:P3D
CALSCALE:GREGORIAN
BEGIN:VEVENT
DTSTART:20141109T010000Z
DTEND:20141109T040000Z
X-MICROSOFT-CDO-ALLDAYEVENT:FALSE
SUMMARY:2014 Remembrance Dance for the Noah Galloway Home
DESCRIPTION:This is a benefit dance for a new home for Noah Galloway\, an Alabaster veteran that lost his legs and an arm during the recent conflict in the middle East. This dance is a salute to all veterans. Veterans are encouraged to wear their uniforms or medals.\n\n\n\nClick here for printable PDF's regarding the event:\n\n\n\nGalloway Flier 2014\n\nGalloway Dance 2014
X-ALT-DESC;FMTTYPE=text/html:This is a benefit dance for a new home for Noah Galloway\, an Alabaster veteran that lost his legs and an arm during the recent conflict in the middle East. This dance is a salute to all veterans. Veterans are encouraged to wear their uniforms or medals.<br>\n<br>\nClick here for printable PDF's regarding the event:<br>\n<br>\n<a href="http://cloud.chambermaster.com/userfiles/UserFiles/chambers/145/File/Community%20Events/2014GallowayFlyer.pdf">Galloway Flier 2014</a><br>\n<a href="http://cloud.chambermaster.com/userfiles/UserFiles/chambers/145/File/Community%20Events/2014RDance.pdf">Galloway Dance 2014</a>
LOCATION:Birmingham Square Dance Association Friendship Hall 1024 Old Walker Chapel Road Fultondale\, Al. 35068
UID:e.145.6169
SEQUENCE:3
DTSTAMP:20260423T075321Z
URL:https://business.shelbychamber.org/events/details/2014-remembrance-dance-for-the-noah-galloway-home-11-08-2014-6169
END:VEVENT

END:VCALENDAR
