BEGIN:VCALENDAR
VERSION:2.0
PRODID:-//ChamberMaster//Event Calendar 2.0//EN
METHOD:PUBLISH
X-PUBLISHED-TTL:P3D
REFRESH-INTERVAL:P3D
CALSCALE:GREGORIAN
BEGIN:VEVENT
DTSTART:20140624T124500Z
DTEND:20140624T170000Z
X-MICROSOFT-CDO-ALLDAYEVENT:FALSE
SUMMARY:2014 Shelby County Workforce Summit
DESCRIPTION:2014 Shelby County Workforce Summit\n\n\n\nFeaturing representatives from the Alabama Department of Labor\, Alabama Technology Network\, Alabama Industrial Development & Training\, Alabama Workforce Councils\, Jefferson State Community College & Shelby County Schools.\n\n\n\nBusiness & industry attendees will:\n\n\n\n     Learn about the latest workforce trends\,\n\n     Learn about training resources available for employers\,\n\n     Have an opportunity to provide feedback on their workforce & training needs\,\n\n     Learn about training programs in the school systems.\n\n\n\nJune 24: 7:45AM - 12:00PM\n\nPelham Civic Complex & Ice Arena\, 500 Amphitheater Road\, Pelham\, AL 35124\n\nNo cost to attend\, but reservations are requested by June 23.\n\n\n\nSpace is limited. Early registration is encouraged.\n\nUse the Register Online button at top of page.\n\n\n\nFor questions\, or more information\, please contact Kirk Mancer at kirk@shelbychamber.org or by phone at 663-4542\, Ext. 101.\n\n\n\nBring your business card to enter a drawing for a laptop computer.
X-ALT-DESC;FMTTYPE=text/html:<br />\n<strong>2014 Shelby County Workforce Summit</strong><br />\n<br />\nFeaturing representatives from the Alabama Department of Labor\, Alabama Technology Network\, Alabama Industrial Development &amp\; Training\, Alabama Workforce Councils\, Jefferson State Community College &amp\; Shelby County Schools.<br />\n<br />\nBusiness &amp\; industry attendees will:<br />\n<br />\n&bull\;&nbsp\;&nbsp\; &nbsp\;Learn about the latest workforce trends\,<br />\n&bull\;&nbsp\;&nbsp\; &nbsp\;Learn about training resources available for employers\,<br />\n&bull\;&nbsp\;&nbsp\; &nbsp\;Have an opportunity to provide feedback on their workforce &amp\; training needs\,<br />\n&bull\;&nbsp\;&nbsp\; &nbsp\;Learn about training programs in the school systems.<br />\n<br />\nJune 24: 7:45AM - 12:00PM<br />\nPelham Civic Complex &amp\; Ice Arena\, 500 Amphitheater Road\, Pelham\, AL 35124<br />\nNo cost to attend\, but reservations are requested by June 23.<br />\n<br />\nSpace is limited. Early registration is encouraged.<br />\nUse the Register Online button at top of page.<br />\n<br />\nFor questions\, or more information\, please contact Kirk Mancer at <a href="mailto:kirk@shelbychamber.org?subject=Question%20Re%3A%202014%20Shelby%20County%20Workforce%20Summit">kirk@shelbychamber.org</a> or by phone at 663-4542\, Ext. 101.<br />\n<br />\n<em><strong>Bring your business card to enter a drawing for a laptop computer.</strong></em>
LOCATION:Pelham Civic Complex & Ice Arena 500 Amphitheater Road\, Pelham\, AL 35124
UID:e.145.5516
SEQUENCE:3
DTSTAMP:20260423T151112Z
URL:https://business.shelbychamber.org/events/details/2014-shelby-county-workforce-summit-06-24-2014-5516
END:VEVENT

END:VCALENDAR
