BEGIN:VCALENDAR
VERSION:2.0
PRODID:-//ChamberMaster//Event Calendar 2.0//EN
METHOD:PUBLISH
X-PUBLISHED-TTL:P3D
REFRESH-INTERVAL:P3D
CALSCALE:GREGORIAN
BEGIN:VEVENT
DTSTART:20140108T233000Z
DTEND:20140109T010000Z
X-MICROSOFT-CDO-ALLDAYEVENT:FALSE
SUMMARY:2014 State Legislative Session Preview with Shelby County Delegation
DESCRIPTION:2014 State Legislative Session Preview with Shelby County Delegation\n\n \n\nThe Chamber's Governmental Affairs Work Group will host a Meeting featuring the Shelby County state legislative delegation as they prepare for the upcoming legislative session scheduled to begin on January 14.  This meeting will provide area businesses and residents with the opportunity to meet with the County's state legislative delegation prior to the State Legislature's convening in Montgomery.\n\n \n\nThis Montgomery Preview meeting will be from 5:30PM until 7:00PM on Wednesday\, January 8 and feature a brief presentation from the delegation followed by a "question & answer" period for attendees.\n\n \n\nThe Meeting will be held in the Large Community Services Room at the County Services Building\, 1301 County Services Drive\, Pelham\, AL 35124.\n\n \n\nThere is no cost to attend this program\, but seating is limited\, so please RSVP by Monday\, January 6 via e-mail at info@shelbychamber.org\, by calling 663-4542 or use the Register Online button above.
X-ALT-DESC;FMTTYPE=text/html:<strong>2014 State Legislative Session Preview with Shelby County Delegation</strong><br />\n&nbsp\;<br />\nThe Chamber&rsquo\;s Governmental Affairs Work Group will host a Meeting featuring the Shelby County state legislative delegation as they prepare for the upcoming legislative session scheduled to begin on January 14.&nbsp\; This meeting will provide area businesses and residents with the opportunity to meet with the County&rsquo\;s state legislative delegation prior to the State Legislature&rsquo\;s convening in Montgomery.<br />\n&nbsp\;<br />\nThis Montgomery Preview meeting will be from 5:30PM until 7:00PM on Wednesday\, January 8 and feature a brief presentation from the delegation followed by a &ldquo\;question &amp\; answer&rdquo\; period for attendees.<br />\n&nbsp\;<br />\nThe Meeting will be held in the Large Community Services Room at the County Services Building\, 1301 County Services Drive\, Pelham\, AL 35124.<br />\n&nbsp\;<br />\nThere is no cost to attend this program\, but seating is limited\, so please RSVP by Monday\, January 6 via e-mail at info@shelbychamber.org\, by calling 663-4542 or use the Register Online button above.
LOCATION:Greater Shelby Chamber/ Shelby County Services Bldg. Large Community Services Room 1301 County Services Drive\, Pelham\, AL 35124
UID:e.145.4958
SEQUENCE:3
DTSTAMP:20260423T225514Z
URL:https://business.shelbychamber.org/events/details/2014-state-legislative-session-preview-with-shelby-county-delegation-01-08-2014-4958
END:VEVENT

END:VCALENDAR
