BEGIN:VCALENDAR
VERSION:2.0
PRODID:-//ChamberMaster//Event Calendar 2.0//EN
METHOD:PUBLISH
X-PUBLISHED-TTL:P3D
REFRESH-INTERVAL:P3D
CALSCALE:GREGORIAN
BEGIN:VEVENT
DTSTART:20150414T150000Z
DTEND:20150415T010000Z
X-MICROSOFT-CDO-ALLDAYEVENT:FALSE
SUMMARY:2015 GSCC Montgomery Drive-In
DESCRIPTION:2015 GSCC Montgomery Drive In\n\n\n\nThe Chamber's 2015 Montgomery Drive-In\, sponsored by AT&T - Alabama\, will be held April 14 at various locations in our state capitol. The Drive-In event is a product of the Chamber's ShelbyOne initiative and will include: transportation to and from Montgomery\, a luncheon with our Shelby County Legislative Delegation and Governor Bentley.\n\n\n\nThen we'll hear presentations from the following department\, agencies and directors:\n\n\n\nDr. Philip Cleveland\, Director\, Career & Technical Education & Workforce Development Alabama Department of Education\,\n\nJim Byard\, Director\, Alabama Department of Economic & Community Affairs\,\n\nTed Clem\, Director of Business Development\, Alabama Department of Commerce\,\n\nThe Honorable Luther Strange\, Attorney General\, State of Alabama\,\n\nFitzgerald Washington\, Commissioner\, Alabama Department of Labor\,\n\nRonald Baldwin\, Chief Engineer\, Alabama Department of Transportation\,\n\nDr. Donald Williamson\, State Health Officer\, Alabama Department of Public Health.\n\n\n\nTuesday\, April 14 / 10:00AM until 8:00PM\n\nParticipants will meet at the Shelby County Services Building\,\n\n1301 County Services Drive\, Pelham\n\nInvestment: Chamber members $40\, "Future" members $55 -- Includes transportation to & from Montgomery\, lunch @ Central Restaurant & legislative reception.\n\n\n\nShelbyOne Investors receive one complimentary registration but are asked to contact the Chamber to make the reservation.
X-ALT-DESC;FMTTYPE=text/html:<br />\n<strong>2015 GSCC Montgomery Drive In</strong><br />\n<br />\nThe Chamber&#39\;s 2015 Montgomery Drive-In\, sponsored by AT&amp\;T - Alabama\, will be held April 14 at various locations in our state capitol. The Drive-In event is a product of the Chamber&#39\;s <em><strong>ShelbyOne</strong></em> initiative and will include: transportation to and from Montgomery\, a luncheon with our Shelby County Legislative Delegation and Governor Bentley.<br />\n<br />\nThen we&#39\;ll hear <span style="font-size:10px\;"><span style="font-family: arial\;">presentations from the following department\, agencies and directors:<br />\n<br />\nDr. Philip Cleveland\, <em><span style="font-style: italic\;">Director\, Career &amp\; Technical Education &amp\; Workforce Development Alabama Department of Education</span></em>\,<br />\nJim Byard\, <em><span style="font-style: italic\;">Director\, Alabama Department of Economic &amp\; Community Affairs</span></em>\,<br />\nTed Clem\, <em><span style="font-style: italic\;">Director of Business Development\, Alabama Department of Commerce</span></em>\,<br />\nThe Honorable Luther Strange\, <em><span style="font-style: italic\;">Attorney General\, State of Alabama</span></em>\,<br />\nFitzgerald Washington\, <em><span style="font-style: italic\;">Commissioner\, Alabama Department of Labor</span></em>\,<br />\nRonald Baldwin\, <em><span style="font-style: italic\;">Chief Engineer\, Alabama Department of Transportation</span></em>\,<br />\nDr. Donald Williamson\, <em><span style="font-style: italic\;">State Health Officer\, Alabama Department of Public Health</span></em>.</span></span><br />\n<br />\n<strong><span style="font-size:10px\;"><span style="font-family: arial\;">Tuesday\, April 14 / 10:00AM until 8:</span></span>00PM<br />\nParticipants will meet at the Shelby County Services Building\,<br />\n1301 County Services Drive\, Pelham<br />\nInvestment: Chamber members $40\, &quot\;Future&quot\; members $55 -- Includes transportation to &amp\; from Montgomery\, lunch @ Central Restaurant &amp\; legislative reception.</strong><br />\n<br />\n<em><strong>ShelbyOne</strong> Investors receive one complimentary registration but are asked to contact the Chamber to make the reservation.</em>
LOCATION:Transportation is available and included in the registration fee. Participants will meet at the Shelby County Services Building 1301 County Services Drive Pelham AL 35124 663-4542
UID:e.145.7583
SEQUENCE:3
DTSTAMP:20260423T003148Z
URL:https://business.shelbychamber.org/events/details/2015-gscc-montgomery-drive-in-04-14-2015-7583
END:VEVENT

END:VCALENDAR
