BEGIN:VCALENDAR
VERSION:2.0
PRODID:-//ChamberMaster//Event Calendar 2.0//EN
METHOD:PUBLISH
X-PUBLISHED-TTL:P3D
REFRESH-INTERVAL:P3D
CALSCALE:GREGORIAN
BEGIN:VEVENT
DTSTART:20150924T120000Z
DTEND:20150924T220000Z
X-MICROSOFT-CDO-ALLDAYEVENT:FALSE
SUMMARY:2015 Pelham YMCA Golf Classic at Timberline Golf Club
DESCRIPTION:Please join us for a day of golf and fellowship at Timberline Golf Club for the Pelham Family YMCA's 2015 Fall Golf Classic. Proceeds from the golf tournament will support the Pelham YMCA Annual Campaign fund\, allowing us to provide scholarships for programs and services to better our community. Together.. we can do so much more!
X-ALT-DESC;FMTTYPE=text/html:<br />\n<span style="font-size:16px\;"><span style="font-family: verdana\;"><strong>Please join us for a day of golf and fellowship at Timberline Golf Club for the <em><u>Pelham Family YMCA&#39\;s 2015 Fall Golf Classic</u></em>. Proceeds from the golf tournament will support the Pelham YMCA Annual Campaign fund\, allowing us to provide scholarships for programs and services to better our community. Together.. we can do so much more!</strong></span></span>
LOCATION:Timberline Golf Glub 300 Timberline Trail Calera\, AL 35040
UID:e.145.7832
SEQUENCE:3
DTSTAMP:20260422T171912Z
URL:https://business.shelbychamber.org/events/details/2015-pelham-ymca-golf-classic-at-timberline-golf-club-09-24-2015-7832
END:VEVENT

END:VCALENDAR
