BEGIN:VCALENDAR
VERSION:2.0
PRODID:-//ChamberMaster//Event Calendar 2.0//EN
METHOD:PUBLISH
X-PUBLISHED-TTL:P3D
REFRESH-INTERVAL:P3D
CALSCALE:GREGORIAN
BEGIN:VEVENT
DTSTART;VALUE=DATE:20150519
DTEND;VALUE=DATE:20150525
TRANSP:TRANSPARENT
X-MICROSOFT-CDO-ALLDAYEVENT:TRUE
SUMMARY:2015 SEC Baseball Tournament
DESCRIPTION:The top 10 teams in the SEC return to the Hoover Met for the SEC Baseball Tournament\, May 19-24! Come see the top collegiate athletes compete for the championship. Teams such as The University of Alabama\, Auburn University\, the University of Georgia\, and Mississippi State will be putting it all out on the line! Tickets start at $20 and are available at www.secsports.com! The road to Omaha begins here so purchase your tickets today!
X-ALT-DESC;FMTTYPE=text/html:The top 10 teams in the SEC return to the Hoover Met for the SEC Baseball Tournament\, May 19-24! Come see the top collegiate athletes compete for the championship. Teams such as The University of Alabama\, Auburn University\, the University of Georgia\, and Mississippi State will be putting it all out on the line! Tickets start at $20 and are available at www.secsports.com! The road to Omaha begins here so purchase your tickets today!
LOCATION:Hoover Metropolitan Stadium 100 Ben Chapman Drive Hoover \, AL 35244
UID:e.145.7589
SEQUENCE:3
DTSTAMP:20260422T230114Z
URL:https://business.shelbychamber.org/events/details/2015-sec-baseball-tournament-05-19-2015-7589
END:VEVENT

END:VCALENDAR
