BEGIN:VCALENDAR
VERSION:2.0
PRODID:-//ChamberMaster//Event Calendar 2.0//EN
METHOD:PUBLISH
X-PUBLISHED-TTL:P3D
REFRESH-INTERVAL:P3D
CALSCALE:GREGORIAN
BEGIN:VEVENT
DTSTART:20160120T173000Z
DTEND:20160120T190000Z
X-MICROSOFT-CDO-ALLDAYEVENT:FALSE
SUMMARY:2016 Alabama State Legislative Preview Luncheon
DESCRIPTION:2016 Alabama State Legislative Preview Luncheon\n\n\n\nWith the Alabama State Legislature reconvening in February\, the four chambers in Shelby County (Calera\, Greater Shelby County\, Montevallo and South Shelby) are co-hosting a Legislative Preview Luncheon on Wednesday\, January 20\, 2016.\n\n\n\nThe luncheon\, co-sponsored by AARP-Alabama and Sain Associates\, will be from 11:30AM-1:00PM at Jefferson State Community College's Health Science Building on Valleydale Road in Shelby County (4600 Valleydale Road).\n\n\n\nMembers of the local Shelby County state legislative delegation will be on hand to share their thoughts and perspective on the issues which our State Senate and State House of Representatives will be discussing and debating during the 2016 legislative session in Montgomery.  \n\n\n\nLunch\, which will be prepared by Jefferson State's Culinary & Hospitality Institute students\, is available at $15 for Chamber investors and $25 for "Future" investors. Reservations are requested. Seating is limited\, so please make your reservations by no later than Monday\, January 18 via e-mail at info@shelbychamber.org\, call 663-4542 or register online.
X-ALT-DESC;FMTTYPE=text/html:<br>\n<strong>2016 Alabama State Legislative Preview Luncheon</strong><br>\n<br>\nWith the Alabama State Legislature reconvening in February\, the four chambers in Shelby County (Calera\, Greater Shelby County\, Montevallo and South Shelby) are co-hosting a Legislative Preview Luncheon on Wednesday\, January 20\, 2016.<br>\n<br>\nThe luncheon\, co-sponsored by <a href="http://states.aarp.org/region/alabama/">AARP-Alabama</a> and <a href="http://www.sain.com">Sain Associates</a>\, will be from 11:30AM-1:00PM at Jefferson State Community College's Health Science Building on Valleydale Road in Shelby County (4600 Valleydale Road).<br>\n<br>\nMembers of the local Shelby County state legislative delegation will be on hand to share their thoughts and perspective on the issues which our State Senate and State House of Representatives will be discussing and debating during the 2016 legislative session in Montgomery. &nbsp\;<br>\n<br>\nLunch\, which will be prepared by Jefferson State's Culinary &amp\; Hospitality Institute students\, is available at $15 for Chamber investors and $25 for "Future" investors. Reservations are requested. Seating is limited\, so please make your reservations by no later than Monday\, January 18 via e-mail at info@shelbychamber.org\, call 663-4542 or register online.
LOCATION:Jefferson State Community College Shelby Campus 4600 Valleydale Road Birmingham\, AL 35242
UID:e.145.8226
SEQUENCE:3
DTSTAMP:20260422T110628Z
URL:https://business.shelbychamber.org/events/details/2016-alabama-state-legislative-preview-luncheon-01-20-2016-8226
END:VEVENT

END:VCALENDAR
