BEGIN:VCALENDAR
VERSION:2.0
PRODID:-//ChamberMaster//Event Calendar 2.0//EN
METHOD:PUBLISH
X-PUBLISHED-TTL:P3D
REFRESH-INTERVAL:P3D
CALSCALE:GREGORIAN
BEGIN:VEVENT
DTSTART:20160925T183000Z
DTEND:20160925T213000Z
X-MICROSOFT-CDO-ALLDAYEVENT:FALSE
SUMMARY:2016 Walk to End Alzheimer's
DESCRIPTION:Held annually in more than 600 communities nationwide\, the Alzheimer's Association Walk to End Alzheimer's  is the world's largest event to raise awareness and funds for Alzheimer's care\, support and research. This inspiring event calls on participants of all ages and abilities to reclaim the future for millions! When you participate in Walk\, your fundraising dollars fuel our mission\, and your participation in the event helps to change the level of Alzheimer's awareness in your community. The Alzheimer's Association provides free\, easy-to-use tools and staff support to help participants reach their fundraising goal. While there is no fee to register\, we encourage participants to fundraise in order to contribute to the cause and raise awareness. Take the first step by finding a Walk near you. Once you register\, you will have access to a wide range of tools and support through your customized Participant Center. Join us and be inspired by all the footsteps that fall into place behind yours. Together\, we can end Alzheimer's!
X-ALT-DESC;FMTTYPE=text/html:Held annually in more than 600 communities nationwide\, the Alzheimer&#39\;s Association Walk to End Alzheimer&rsquo\;s&reg\; is the world&rsquo\;s largest event to raise awareness and funds for Alzheimer&rsquo\;s care\, support and research. This inspiring event calls on participants of all ages and abilities to reclaim the future for millions! When you participate in Walk\, your fundraising dollars fuel our mission\, and your participation in the event helps to change the level of Alzheimer&rsquo\;s awareness in your community. The Alzheimer&rsquo\;s Association provides free\, easy-to-use tools and staff support to help participants reach their fundraising goal. While there is no fee to register\, we encourage participants to fundraise in order to contribute to the cause and raise awareness. Take the first step by finding a Walk near you. Once you register\, you will have access to a wide range of tools and support through your customized Participant Center. Join us and be inspired by all the footsteps that fall into place behind yours. Together\, we can end Alzheimer&rsquo\;s!
LOCATION:Railroad Park 1600 1st Ave Birmingham\, AL 35233
UID:e.145.9584
SEQUENCE:3
DTSTAMP:20260421T183507Z
URL:https://business.shelbychamber.org/events/details/2016-walk-to-end-alzheimer-s-09-25-2016-9584
END:VEVENT

END:VCALENDAR
