BEGIN:VCALENDAR
VERSION:2.0
PRODID:-//ChamberMaster//Event Calendar 2.0//EN
METHOD:PUBLISH
X-PUBLISHED-TTL:P3D
REFRESH-INTERVAL:P3D
CALSCALE:GREGORIAN
BEGIN:VEVENT
DTSTART:20170202T233000Z
DTEND:20170203T023000Z
X-MICROSOFT-CDO-ALLDAYEVENT:FALSE
SUMMARY:2017 Alabama Football Recruiting Update - Shelby County UA Alumni Chapter
DESCRIPTION:Join the Shelby County University of Alabama Alumni Chapter for a Recruiting Update with Andrew Bone on Thursday\, February 2nd at the Inverness Country Club. Ticket includes buffet dinner (pasta bar\, dessert & drink). A cash bar will also be available. Andrew Bone covers recruiting in the state of Alabama for Rivals.com/Yahoo!Sports. He is the senior recruiting analyst for The Tuscaloosa News and TideSports.com. Andrew covers all of the top high school/JuCo football targets for the Alabama Crimson Tide. He also covers all the top prospects in the state of Alabama. His work can be found at TideSports.com\, AlabamaVarsity.com and throughout the Rivals.com recruiting network. Rivals.com is the premier name in the recruiting and college football industry. Andrew joined Rivals in 2012 after working for another recruiting website. Mr. Bone spent several years (2003-2012) as a recruiting reporter/analyst for FoxSports/Scout.com. He was in charge of the state of Alabama each year\, and he also spent two years as one of the regional managers for the Southeast. The Recruiting Update Event is sponsored by: Bama Budweiser of Shelby County\, Alabama Credit Union\, and Renasant Bank
X-ALT-DESC;FMTTYPE=text/html:Join the Shelby County University of Alabama Alumni Chapter for a Recruiting Update with Andrew Bone on Thursday\, February 2nd at the Inverness Country Club. Ticket includes buffet dinner (pasta bar\, dessert &amp\; drink). A cash bar will also be available. Andrew Bone covers recruiting in the state of Alabama for Rivals.com/Yahoo!Sports. He is the senior recruiting analyst for The Tuscaloosa News and TideSports.com. Andrew covers all of the top high school/JuCo football targets for the Alabama Crimson Tide. He also covers all the top prospects in the state of Alabama. His work can be found at TideSports.com\, AlabamaVarsity.com and throughout the Rivals.com recruiting network. Rivals.com is the premier name in the recruiting and college football industry. Andrew joined Rivals in 2012 after working for another recruiting website. Mr. Bone spent several years (2003-2012) as a recruiting reporter/analyst for FoxSports/Scout.com. He was in charge of the state of Alabama each year\, and he also spent two years as one of the regional managers for the Southeast. The Recruiting Update Event is sponsored by: Bama Budweiser of Shelby County\, Alabama Credit Union\, and Renasant Bank
LOCATION:Inverness Country Club Garden Room 1 Country Club Drive Birmingham\, AL 35242
UID:e.145.10373
SEQUENCE:3
DTSTAMP:20260421T121454Z
URL:https://business.shelbychamber.org/events/details/2017-alabama-football-recruiting-update-shelby-county-ua-alumni-chapter-10373
END:VEVENT

END:VCALENDAR
