BEGIN:VCALENDAR
VERSION:2.0
PRODID:-//ChamberMaster//Event Calendar 2.0//EN
METHOD:PUBLISH
X-PUBLISHED-TTL:P3D
REFRESH-INTERVAL:P3D
CALSCALE:GREGORIAN
BEGIN:VEVENT
DTSTART:20151211T150000Z
DTEND:20151211T163000Z
X-MICROSOFT-CDO-ALLDAYEVENT:FALSE
SUMMARY:21 Irrefutable Laws of Leadership
DESCRIPTION:You are invited to a Mastermind Group study on "The 21 Irrefutable Laws of Leadership" by John Maxwell. This is a 10-week in-depth study that will afford you the opportunity to join forces and mastermind with a unique group of like-minded individuals who are focused on taking results in every area of their lives to a new level. Having the support and ideas from other focused and driven people allows us to see things differently and to get a new perspective on goals and action plans.\n\n\n\nTogether\, we will learn how to effectively raise our leadership lid by understanding and implementing the principles of the 21 irrefutable laws of leadership.
X-ALT-DESC;FMTTYPE=text/html:<span style="font-size:10px\;"><span style="font-family: arial\;">You are invited to a Mastermind Group study on &ldquo\;<em>The 21 Irrefutable Laws of Leadership</em>&rdquo\; by John Maxwell. This is a 10-week in-depth study that will afford you the opportunity to join forces and mastermind with a unique group of like-minded individuals who are focused on taking results in every area of their lives to a new level. Having the support and ideas from other focused and driven people allows us to see things differently and to get a new perspective on goals and action plans.<br />\n<br />\nTogether\, we will learn how to effectively raise our leadership lid by understanding and implementing the principles of the 21 irrefutable laws of leadership.&nbsp\;</span></span>
LOCATION:1837 Montgomery hwy S suite 105 Hoover\, AL 35244
UID:e.145.7921
SEQUENCE:3
DTSTAMP:20260422T140239Z
URL:https://business.shelbychamber.org/events/details/21-irrefutable-laws-of-leadership-12-11-2015-7921
END:VEVENT

END:VCALENDAR
