BEGIN:VCALENDAR
VERSION:2.0
PRODID:-//ChamberMaster//Event Calendar 2.0//EN
METHOD:PUBLISH
X-PUBLISHED-TTL:P3D
REFRESH-INTERVAL:P3D
CALSCALE:GREGORIAN
BEGIN:VEVENT
DTSTART:20130406T213000Z
DTEND:20130406T230000Z
X-MICROSOFT-CDO-ALLDAYEVENT:FALSE
SUMMARY:2Blu and the Lucky Stiffs Performance
DESCRIPTION:Award winning Blues band 2Blu and the Lucky Stiffs will perform on Saturday April 6th\, 4:30-6:00pm\n\nat SCAC Preformance Theater. Purchase tickets online or at the door.
X-ALT-DESC;FMTTYPE=text/html:Award winning Blues band 2Blu and the Lucky Stiffs will perform on Saturday April 6th\, 4:30-6:00pm<br />\nat SCAC Preformance Theater. Purchase tickets online or at the door.
LOCATION:Shelby County Arts Council 104 Mildred Street\, Columbiana\, AL 35015
UID:e.145.4562
SEQUENCE:3
DTSTAMP:20260424T133826Z
URL:https://business.shelbychamber.org/events/details/2blu-and-the-lucky-stiffs-performance-04-06-2013-4562
END:VEVENT

END:VCALENDAR
