BEGIN:VCALENDAR
VERSION:2.0
PRODID:-//ChamberMaster//Event Calendar 2.0//EN
METHOD:PUBLISH
X-PUBLISHED-TTL:P3D
REFRESH-INTERVAL:P3D
CALSCALE:GREGORIAN
BEGIN:VEVENT
DTSTART:20111204T200000Z
DTEND:20111205T020000Z
X-MICROSOFT-CDO-ALLDAYEVENT:FALSE
SUMMARY:2nd Annual Kampfire For The King
DESCRIPTION:On Sunday\, December 4th\, King's Home will host it's 2nd Annual Kampfire For The King.  This is quickly becoming Birmingham's must attend Christmas Family Event!  This year we have Disciple\, Act of Congress\, Jason Standridge\, Todd Jones\, Zig\, Ike\, Bird\, Matt Pitt with The Basement and many more!  There will be vendors\, hayrides\, Santa\, kampfires\, a bonfire\, and so much more to make for an exciting fun-packed afternoon for the entire family.  Please visit www.kampfirefortheking.org for details or email valerie@kingshome.com.  You can also call Valerie at 205.678.8331 ext 243.  General Admission is at the gate for a $10 donation request.  VIP tickets will be sold in advance only for $25 each.  We hope to see you there!  The event will be held 2:00 - 8:00 PM.
X-ALT-DESC;FMTTYPE=text/html:On Sunday\, December 4th\, King&#39\;s Home will host it&#39\;s 2nd Annual Kampfire For The King. &nbsp\;This is quickly becoming Birmingham&#39\;s must attend Christmas Family Event! &nbsp\;This year we have Disciple\, Act of Congress\, Jason Standridge\, Todd Jones\, Zig\, Ike\, Bird\, Matt Pitt with The Basement and many more! &nbsp\;There will be vendors\, hayrides\, Santa\, kampfires\, a bonfire\, and so much more to make for an exciting fun-packed afternoon for the entire family. &nbsp\;Please visit www.kampfirefortheking.org for details or email valerie@kingshome.com. &nbsp\;You can also call Valerie at 205.678.8331 ext 243. &nbsp\;General Admission is at the gate for a $10 donation request. &nbsp\;VIP tickets will be sold in advance only for $25 each. &nbsp\;We hope to see you there! &nbsp\;The event will be held 2:00 - 8:00 PM.
LOCATION:Chelsea\, AL - Main Campus
UID:e.145.3529
SEQUENCE:3
DTSTAMP:20260425T153049Z
URL:https://business.shelbychamber.org/events/details/2nd-annual-kampfire-for-the-king-12-04-2011-3529
END:VEVENT

END:VCALENDAR
