BEGIN:VCALENDAR
VERSION:2.0
PRODID:-//ChamberMaster//Event Calendar 2.0//EN
METHOD:PUBLISH
X-PUBLISHED-TTL:P3D
REFRESH-INTERVAL:P3D
CALSCALE:GREGORIAN
BEGIN:VEVENT
DTSTART:20160312T140000Z
DTEND:20160312T170000Z
X-MICROSOFT-CDO-ALLDAYEVENT:FALSE
SUMMARY:2nd Annual Leprechaun Leap
DESCRIPTION:Join us on Saturday\, March 12th for the 2nd Annual Leprechaun Leap 5K Run/Walk benefiting Easter Seals of the Birmingham Area. This year's event will once again be held at the beautiful Preserve in Hoover and will include Health and Wellness Fair as well as kids fitness activities with inflatables\, soccer relay\, hula hoop contest\, and jump rope relay! All proceeds benefit our pediatric clinic.
X-ALT-DESC;FMTTYPE=text/html:Join us on Saturday\, March 12th for the 2nd Annual Leprechaun Leap 5K Run/Walk benefiting Easter Seals of the Birmingham Area. This year&#39\;s event will once again be held at the beautiful Preserve in Hoover and will include Health and Wellness Fair as well as kids fitness activities with inflatables\, soccer relay\, hula hoop contest\, and jump rope relay! All proceeds benefit our pediatric clinic.
LOCATION:The Preserve Hoover 601 Preserve Way\, Hoover\, AL
UID:e.145.8392
SEQUENCE:3
DTSTAMP:20260422T074934Z
URL:https://business.shelbychamber.org/events/details/2nd-annual-leprechaun-leap-03-12-2016-8392
END:VEVENT

END:VCALENDAR
