BEGIN:VCALENDAR
VERSION:2.0
PRODID:-//ChamberMaster//Event Calendar 2.0//EN
METHOD:PUBLISH
X-PUBLISHED-TTL:P3D
REFRESH-INTERVAL:P3D
CALSCALE:GREGORIAN
BEGIN:VEVENT
DTSTART:20110616T000000Z
DTEND:20110616T020000Z
X-MICROSOFT-CDO-ALLDAYEVENT:FALSE
SUMMARY:2nd Annual Rib Eating Contest at Texas Roadhouse Pelham!
DESCRIPTION:2nd Annual Rib Eating Contest\n\n					Texas Roadhouse Pelham\n\n					 June 15th\, 2011  7 PM\n				\n					 \n				\n					Click here for a printable flier!\n\n					\n\n					Contestants will compete to see who can eat 2 full slabs of our Fall off-the-bone Ribs fastest!\n\n					 \n\n					We only have 30 spots in the competition\, reserve your spot today!  \n				\n					 \n\n					$20 Entry fee\n\n					 \n\n					Proceeds from the contest will be donated to \n\n					The American Red Cross\n\n					 \n\n					Contact Kristina Young for more details \n\n					(205) 985-7427  store_pelham@texasroadhouse.com
X-ALT-DESC;FMTTYPE=text/html:<table align="left" border="1" cellpadding="0" cellspacing="0" style="border-collapse: collapse\; border: medium none\; margin-left: 6.75pt\; margin-right: 6.75pt\; width: 587px\; height: 609px\;">\n	<tbody>\n		<tr style="height: 456px\;">\n			<td style="width: 763px\; border: medium none\; padding: 0in 5.4pt\; height: 456px\; vertical-align: top\;">\n				<div>\n					<span style="font-size: 22px\;"><strong><span style="font-family: calibri\;">2<sup>nd</sup> Annual Rib Eating Contest<br />\n					Texas Roadhouse Pelham</span></strong><br />\n					<strong><span style="font-family: calibri\;">&nbsp\;June 15<sup>th</sup>\, 2011 &nbsp\;7 PM</span></strong></span></div>\n				<div>\n					<span style="font-size: 14px\;">&nbsp\;</span></div>\n				<div>\n					<span style="font-size: 14px\;"><span style="font-family: calibri\;"><a href="http://cloud.chambermaster.com/userfiles/UserFiles/chambers/145/File/Community%20Events/2nd%20annual%20rib%20eating%20contest%206.15.11.pdf">Click here for a printable flier!</a><br />\n					<br />\n					Contestants will compete to see who can eat </span><span style="font-family: calibri\;">2 full slabs of our Fall off-the-bone Ribs fastest!</span><br />\n					&nbsp\;<br />\n					<span style="font-family: calibri\;">We only have 30 spots in the competition\, reserve your spot today!&nbsp\; </span></span></div>\n				<div>\n					<span style="font-size: 14px\;">&nbsp\;<br />\n					<span style="font-family: calibri\;">$20 Entry fee</span><br />\n					&nbsp\;<br />\n					<strong><span style="font-family: calibri\;">Proceeds from the contest will be donated to </span></strong><br />\n					<strong><span style="font-family: calibri\;">The American Red Cross</span></strong><br />\n					&nbsp\;<br />\n					<strong><span style="font-family: calibri\;">Contact Kristina Young for more details </span></strong><br />\n					<span style="font-family: calibri\;">(205) 985-7427 </span><span style="font-family: calibri\;">&bull\;</span><span style="font-family: calibri\;">store_pelham@texasroadhouse.com</span></span></div>\n			</td>\n		</tr>\n	</tbody>\n</table>\n<div>\n	<span style="font-size: 14px\;">&nbsp\;</span></div>\n
LOCATION:Texas Roadhouse 60 Drivers Way Pelham AL 35124 (205) 985-7427
UID:e.145.3410
SEQUENCE:3
DTSTAMP:20260426T005927Z
URL:https://business.shelbychamber.org/events/details/2nd-annual-rib-eating-contest-at-texas-roadhouse-pelham-06-15-2011-3410
END:VEVENT

END:VCALENDAR
