BEGIN:VCALENDAR
VERSION:2.0
PRODID:-//ChamberMaster//Event Calendar 2.0//EN
METHOD:PUBLISH
X-PUBLISHED-TTL:P3D
REFRESH-INTERVAL:P3D
CALSCALE:GREGORIAN
BEGIN:VEVENT
DTSTART:20170125T151500Z
DTEND:20170125T164500Z
X-MICROSOFT-CDO-ALLDAYEVENT:FALSE
SUMMARY:2nd Annual Shelby County Business Outlook Conference
DESCRIPTION:2nd Annual Shelby County Business Outlook Conference\n\n\n\nWhile no one has an actual Crystal Ball that predicts the future\, on January 25 a panel of top-level executives from various business sectors in Shelby County (banking\, real estate\, healthcare\, retail\, manufacturing\, small business\, etc.) will provide their respective business outlooks for Shelby County in 2017.  \n\n\n\nThis second annual event\, co-hosted by the University of Montevallo's Stephens College of Business and the Greater Shelby County\, Montevallo and South Shelby chambers.  Following the panel presentation\, Dr. Stephen Craft\, Dean of the Stephens Business School at the University of Montevallo\, will provide an overview of the results from the 2017 Business Outlook Survey for Shelby County.\n\n\n\nA limited number of tickets at $25 per person for Chamber investors ($35 for "Future" investors) are available for this program.\n\n\n\nThe investment includes the panel presentation from 9:15AM   10:45AM and also includes entry to the Greater Shelby County Chamber of Commerce's 36th Annual Meeting with doors opening at 11:00AM and the program concluding by 1:00PM.\n\n\n\nFor more information\, or to make a reservation\, please contact Payton Thomas\, the Chamber's Director of Business Development & Support at payton@shelbychamber.org or by telephone at 663-4542\, ext. 105 or register online.
X-ALT-DESC;FMTTYPE=text/html:<strong>2nd Annual Shelby County Business Outlook Conference</strong><br />\n<br />\nWhile no one has an actual Crystal Ball that predicts the future\, on January 25 a panel of top-level executives from various business sectors in Shelby County (banking\, real estate\, healthcare\, retail\, manufacturing\, small business\, etc.) will provide their respective business outlooks for Shelby County in 2017. &nbsp\;<br />\n<br />\nThis second annual event\, co-hosted by the University of Montevallo&rsquo\;s Stephens College of Business and the Greater Shelby County\, Montevallo and South Shelby chambers. &nbsp\;Following the panel presentation\, Dr. Stephen Craft\, Dean of the Stephens Business School at the University of Montevallo\, will provide an overview of the results from the 2017 Business Outlook Survey for Shelby County.<br />\n<br />\nA limited number of tickets at $25 per person for Chamber investors ($35 for &ldquo\;Future&rdquo\; investors) are available for this program.<br />\n<br />\n<strong>The investment includes the panel presentation from 9:15AM &ndash\; 10:45AM and also includes entry to the Greater Shelby County Chamber of Commerce&#39\;s 36th Annual Meeting with doors opening at 11:00AM and the program concluding by 1:00PM.</strong><br />\n<br />\nFor more information\, or to make a reservation\, please contact Payton Thomas\, the Chamber&rsquo\;s Director of Business Development &amp\; Support at payton@shelbychamber.org or by telephone at 663-4542\, ext. 105 or register online.
LOCATION:Pelham Civic Complex and Ice Arena 500 Amphitheater Road Pelham\, AL 35124
UID:e.145.10013
SEQUENCE:3
DTSTAMP:20260421T132627Z
URL:https://business.shelbychamber.org/events/details/2nd-annual-shelby-county-business-outlook-conference-10013
END:VEVENT

END:VCALENDAR
