BEGIN:VCALENDAR
VERSION:2.0
PRODID:-//ChamberMaster//Event Calendar 2.0//EN
METHOD:PUBLISH
X-PUBLISHED-TTL:P3D
REFRESH-INTERVAL:P3D
CALSCALE:GREGORIAN
BEGIN:VEVENT
DTSTART:20130427T150000Z
DTEND:20130427T170000Z
X-MICROSOFT-CDO-ALLDAYEVENT:FALSE
SUMMARY:2nd Annual Taste of the South at North Shelby Baptist Church
DESCRIPTION:You are invited to the 2nd Annual Taste of the South!\n\n\n\nSaturday\, April 27\, 2013\n\n\n\n10:00 am   2:00 pm\n\n\n\nNorth Shelby Baptist Church\n\n4100 Belcher Drive Birmingham\, AL 35243\n\n(205) 995-9056\n\n\n\nNorth Shelby Baptist Church   Highway 280   Between The Narrows and Highland Lakes\n\n\n\nHawg Heaven Ribs won the BBQ division last year and they are defending their title again this year.\n\n\n\nThis year the judging has increased to four different categories:\n\n\n\nChicken\n\nRibs\n\nPork\n\nOther\n\n\n\nThere will also have a People's Choice winner.\n\n\n\nPlease come by and enjoy a lot of good food and have a great time!
X-ALT-DESC;FMTTYPE=text/html:You are invited to the 2nd Annual Taste of the South!<br />\n<br />\nSaturday\, April 27\, 2013<br />\n<br />\n10:00 am &ndash\; 2:00 pm<br />\n<br />\nNorth Shelby Baptist Church<br />\n4100 Belcher Drive Birmingham\, AL 35243<br />\n(205) 995-9056<br />\n<br />\nNorth Shelby Baptist Church &ndash\; Highway 280 &ndash\; Between The Narrows and Highland Lakes<br />\n<br />\nHawg Heaven Ribs won the BBQ division last year and they are defending their title again this year.<br />\n<br />\nThis year the judging has increased to four different categories:<br />\n<br />\nChicken<br />\nRibs<br />\nPork<br />\nOther<br />\n<br />\nThere will also have a People&rsquo\;s Choice winner.<br />\n<br />\nPlease come by and enjoy a lot of good food and have a great time!
LOCATION:North Shelby Baptist Church 4100 Belcher Drive Birmingham\, AL 35243 (205) 995-9056
UID:e.145.4604
SEQUENCE:3
DTSTAMP:20260424T135139Z
URL:https://business.shelbychamber.org/events/details/2nd-annual-taste-of-the-south-at-north-shelby-baptist-church-04-27-2013-4604
END:VEVENT

END:VCALENDAR
