BEGIN:VCALENDAR
VERSION:2.0
PRODID:-//ChamberMaster//Event Calendar 2.0//EN
METHOD:PUBLISH
X-PUBLISHED-TTL:P3D
REFRESH-INTERVAL:P3D
CALSCALE:GREGORIAN
BEGIN:VEVENT
DTSTART:20131005T150000Z
DTEND:20131005T190000Z
X-MICROSOFT-CDO-ALLDAYEVENT:FALSE
SUMMARY:3rd Annual Fall Festival at Oak Mountain State Park
DESCRIPTION:A fun way to celebrate fall. Some activities will be hayrides\, facepainting\, cake walk\, bobbing for apples\, and MORE!\n\n\n\nThis event will take place at the Dogwood & Lakeside Pavilions on Terrace Drive.\n\n\n\nSome activities cost $1.
X-ALT-DESC;FMTTYPE=text/html:A fun way to celebrate fall. Some activities will be hayrides\, facepainting\, cake walk\, bobbing for apples\, and MORE!<br />\n<br />\nThis event will take place at the Dogwood &amp\; Lakeside Pavilions on Terrace Drive.<br />\n<br />\nSome activities cost $1.<br />\n<br />\n
LOCATION:Oak Mountain State Park - Dogwood and Lakeside Pavilions
UID:e.145.4512
SEQUENCE:3
DTSTAMP:20260424T033733Z
URL:https://business.shelbychamber.org/events/details/3rd-annual-fall-festival-at-oak-mountain-state-park-10-05-2013-4512
END:VEVENT

END:VCALENDAR
