BEGIN:VCALENDAR
VERSION:2.0
PRODID:-//ChamberMaster//Event Calendar 2.0//EN
METHOD:PUBLISH
X-PUBLISHED-TTL:P3D
REFRESH-INTERVAL:P3D
CALSCALE:GREGORIAN
BEGIN:VEVENT
DTSTART:20130527T150000Z
DTEND:20130527T163000Z
X-MICROSOFT-CDO-ALLDAYEVENT:FALSE
SUMMARY:3rd Annual Memorial Day Bug Races
DESCRIPTION:Come race some bugs in the 3rd Annual Memorial Bug Races. On your mark\, get set\,  GO! You can bring your own bugs or look for some here. Meet at the bottom of the stairs at Treetop Nature Trail.
X-ALT-DESC;FMTTYPE=text/html:Come race some bugs in the 3rd Annual Memorial Bug Races. On your mark\, get set\,&hellip\;&hellip\;GO! You can bring your own bugs or look for some here. Meet at the bottom of the stairs at Treetop Nature Trail.
LOCATION:Oak Mountain State Park - Treetop Nature Trail
UID:e.145.4522
SEQUENCE:3
DTSTAMP:20260424T120101Z
URL:https://business.shelbychamber.org/events/details/3rd-annual-memorial-day-bug-races-05-27-2013-4522
END:VEVENT

END:VCALENDAR
