BEGIN:VCALENDAR
VERSION:2.0
PRODID:-//ChamberMaster//Event Calendar 2.0//EN
METHOD:PUBLISH
X-PUBLISHED-TTL:P3D
REFRESH-INTERVAL:P3D
CALSCALE:GREGORIAN
BEGIN:VEVENT
DTSTART;VALUE=DATE:20130405
DTEND;VALUE=DATE:20130406
TRANSP:TRANSPARENT
X-MICROSOFT-CDO-ALLDAYEVENT:TRUE
SUMMARY:3rd Annual Shelby County's Best BBQ Cookoff
DESCRIPTION:Fire up the Smokers!  It's time for our Third Annual Shelby County's Best BBQ Cook-off.  Cook teams will be competing for the prize of Best Ribs\, Best Sauce and Chef's Speciality in the county.\n\n\n\nGet your corporate cook team together and give us a call to register.  205 669 0044\n\n\n\nPubic Tasting Tickets are $10 (children under 12 free with a paid adult)\n\nThe tasting opens at 4:00pm and closes at 7:00pm.\n\nOther activities include an Art Show\, Classic Car Exhibit and Entertainment.
X-ALT-DESC;FMTTYPE=text/html:Fire up the Smokers!&nbsp\; It&#39\;s time for our Third Annual Shelby County&#39\;s Best BBQ Cook-off.&nbsp\; Cook teams will be competing for the prize of Best Ribs\, Best Sauce and Chef&#39\;s Speciality in the county.<br />\n<br />\nGet your corporate cook team together and give us a call to register.&nbsp\; 205 669 0044<br />\n<br />\nPubic Tasting Tickets are $10 (children under 12 free with a paid adult)<br />\nThe tasting opens at 4:00pm and closes at 7:00pm.<br />\nOther activities include an Art Show\, Classic Car Exhibit and Entertainment.<br />\n<br />\n<br />\n<br />\n
LOCATION:West College Street\, Columbiana\, Al 35051
UID:e.145.4502
SEQUENCE:3
DTSTAMP:20260424T134532Z
URL:https://business.shelbychamber.org/events/details/3rd-annual-shelby-county-s-best-bbq-cookoff-04-05-2013-4502
END:VEVENT

END:VCALENDAR
