BEGIN:VCALENDAR
VERSION:2.0
PRODID:-//ChamberMaster//Event Calendar 2.0//EN
METHOD:PUBLISH
X-PUBLISHED-TTL:P3D
REFRESH-INTERVAL:P3D
CALSCALE:GREGORIAN
BEGIN:VEVENT
DTSTART:20141109T203000Z
DTEND:20141109T223000Z
X-MICROSOFT-CDO-ALLDAYEVENT:FALSE
SUMMARY:3rd Annual Statewide High School Juried Art Show
DESCRIPTION:Gallery opening\, winner announcements\, Scholarships Awarded.
X-ALT-DESC;FMTTYPE=text/html:Gallery opening\, winner announcements\, Scholarships Awarded.
LOCATION:Shelby County Art Council 104 Mildred Street Columbiana\, AL 35051
UID:e.145.6191
SEQUENCE:3
DTSTAMP:20260423T075457Z
URL:https://business.shelbychamber.org/events/details/3rd-annual-statewide-high-school-juried-art-show-11-09-2014-6191
END:VEVENT

END:VCALENDAR
