BEGIN:VCALENDAR
VERSION:2.0
PRODID:-//ChamberMaster//Event Calendar 2.0//EN
METHOD:PUBLISH
X-PUBLISHED-TTL:P3D
REFRESH-INTERVAL:P3D
CALSCALE:GREGORIAN
BEGIN:VEVENT
DTSTART:20121201T160000Z
DTEND:20121201T220000Z
X-MICROSOFT-CDO-ALLDAYEVENT:FALSE
SUMMARY:4th Annual Artist Market
DESCRIPTION:Over twenty artists will gather at the Shelby County Arts Council in Columbiana\, Alabama\, for our 4th Annual Artist Market. The artist\, who is all members of the Shelby County Arts Council\, will gather to offer their one-of -a- kind art just in time for holiday shopping.\n\n\n\nThis year's artists will feature pottery\, jewelry\, watercolors\, oil paintings\, acrylic paintings\, clothing accessories and culinary arts. The market will also feature a silent auction with all items donated by participating artists. Proceeds from the auction benefit the on-going efforts of the Shelby County Arts Council to support\, nurture and promote the arts and cultural opportunities in Shelby County\, Alabama.
X-ALT-DESC;FMTTYPE=text/html:Over twenty artists will gather at the Shelby County Arts Council in Columbiana\, Alabama\, for our 4th Annual Artist Market. The artist\, who is all members of the Shelby County Arts Council\, will gather to offer their one-of -a- kind art just in time for holiday shopping.<br>\n<br>\nThis year's artists will feature pottery\, jewelry\, watercolors\, oil paintings\, acrylic paintings\, clothing accessories and culinary arts. The market will also feature a silent auction with all items donated by participating artists. Proceeds from the auction benefit the on-going efforts of the Shelby County Arts Council to support\, nurture and promote the arts and cultural opportunities in Shelby County\, Alabama.<br>\n
LOCATION:Shelby County Arts Council \, 104 MIldred Street
UID:e.145.4273
SEQUENCE:3
DTSTAMP:20260424T220103Z
URL:https://business.shelbychamber.org/events/details/4th-annual-artist-market-12-01-2012-4273
END:VEVENT

END:VCALENDAR
