BEGIN:VCALENDAR
VERSION:2.0
PRODID:-//ChamberMaster//Event Calendar 2.0//EN
METHOD:PUBLISH
X-PUBLISHED-TTL:P3D
REFRESH-INTERVAL:P3D
CALSCALE:GREGORIAN
BEGIN:VEVENT
DTSTART;VALUE=DATE:20120906
DTEND;VALUE=DATE:20121101
TRANSP:TRANSPARENT
X-MICROSOFT-CDO-ALLDAYEVENT:TRUE
SUMMARY:4th Annual Juried Art Show
DESCRIPTION:4th Annual Juried Art Show hosted by the Shelby County Arts Council. This annual event has become a showcase exhibit for the Shelby County Arts Council. The "Best of Show Winner" of the 2012 Juried Art Show will be offered a Solo-Show at the SCAC gallery in the spring of 2013 in addition to a cash prize. Awards will also be presented to winners in each category: Oil/Acrylic Painting\, Photography\, 2D Mixed Media\, Pottery and Drawing.
X-ALT-DESC;FMTTYPE=text/html:4th Annual Juried Art Show hosted by the Shelby County Arts Council. This annual event has become a showcase exhibit for the Shelby County Arts Council. The &ldquo\;Best of Show Winner&rdquo\; of the 2012 Juried Art Show will be offered a Solo-Show at the SCAC gallery in the spring of 2013 in addition to a cash prize. Awards will also be presented to winners in each category: Oil/Acrylic Painting\, Photography\, 2D Mixed Media\, Pottery and Drawing. 
LOCATION:104 Mildred Street\, Columbiana\, AL 35051
UID:e.145.4262
SEQUENCE:3
DTSTAMP:20260424T234025Z
URL:https://business.shelbychamber.org/events/details/4th-annual-juried-art-show-09-06-2012-4262
END:VEVENT

END:VCALENDAR
