BEGIN:VCALENDAR
VERSION:2.0
PRODID:-//ChamberMaster//Event Calendar 2.0//EN
METHOD:PUBLISH
X-PUBLISHED-TTL:P3D
REFRESH-INTERVAL:P3D
CALSCALE:GREGORIAN
BEGIN:VEVENT
DTSTART:20131207T153000Z
DTEND:20131207T210000Z
X-MICROSOFT-CDO-ALLDAYEVENT:FALSE
SUMMARY:5th Annual Artist Market
DESCRIPTION:Over twenty artists will gather at the Shelby County Arts Council in Columbiana\, Alabama\, for our 5th Annual Artist Market. The artist\, who is all members of the Shelby County Arts Council\, will gather to offer their one-of -a- kind art just in time for holiday shopping. This year's artists will feature pottery\, photography\, jewelry\, watercolors\, oil paintings\, acrylic paintings\, clothing accessories and culinary arts. Admission is FREE! Make plans to join us on the market's opening day\, Saturday\, December 7\, 2013\, from 9:30am - 3 pm. For more information visit our website www.shelbycountyartscouncil.com or call our office (205) 669-0044. Interested Vendors: Contact Sandra@shelbycountyartscouncil.com. All items must be original!
X-ALT-DESC;FMTTYPE=text/html:Over twenty artists will gather at the Shelby County Arts Council in Columbiana\, Alabama\, for our 5th Annual Artist Market. The artist\, who is all members of the Shelby County Arts Council\, will gather to offer their one-of -a- kind art just in time for holiday shopping. This year&#39\;s artists will feature pottery\, photography\, jewelry\, watercolors\, oil paintings\, acrylic paintings\, clothing accessories and culinary arts. Admission is FREE! Make plans to join us on the market&#39\;s opening day\, Saturday\, December 7\, 2013\, from 9:30am - 3 pm. For more information visit our website www.shelbycountyartscouncil.com or call our office (205) 669-0044. Interested Vendors: Contact Sandra@shelbycountyartscouncil.com. All items must be original! 
LOCATION:104 Mildred Street\, Columibana\, AL 35051 205 669 0044
UID:e.145.4909
SEQUENCE:3
DTSTAMP:20260424T003019Z
URL:https://business.shelbychamber.org/events/details/5th-annual-artist-market-12-07-2013-4909
END:VEVENT

END:VCALENDAR
