BEGIN:VCALENDAR
VERSION:2.0
PRODID:-//ChamberMaster//Event Calendar 2.0//EN
METHOD:PUBLISH
X-PUBLISHED-TTL:P3D
REFRESH-INTERVAL:P3D
CALSCALE:GREGORIAN
BEGIN:VEVENT
DTSTART:20140907T190000Z
DTEND:20140907T210000Z
X-MICROSOFT-CDO-ALLDAYEVENT:FALSE
SUMMARY:6th Annual Adult Juried Art Show
DESCRIPTION:Gallery opening and winner announcements for our 6th Annual Adult Juried Art Show.
X-ALT-DESC;FMTTYPE=text/html:Gallery opening and winner announcements for our 6th Annual Adult Juried Art Show.
LOCATION:Shelby County Arts Council 104 Mildred Street Columbiana\, AL 35051
UID:e.145.6190
SEQUENCE:3
DTSTAMP:20260423T104307Z
URL:https://business.shelbychamber.org/events/details/6th-annual-adult-juried-art-show-09-07-2014-6190
END:VEVENT

END:VCALENDAR
