BEGIN:VCALENDAR
VERSION:2.0
PRODID:-//ChamberMaster//Event Calendar 2.0//EN
METHOD:PUBLISH
X-PUBLISHED-TTL:P3D
REFRESH-INTERVAL:P3D
CALSCALE:GREGORIAN
BEGIN:VEVENT
DTSTART:20130330T150000Z
DTEND:20130330T190000Z
X-MICROSOFT-CDO-ALLDAYEVENT:FALSE
SUMMARY:6th Annual Easter Egg Hunt at Oak Mountain State Park
DESCRIPTION:Fun filled activities   cake hop\, facepainting\, hayrides\, hunting for eggs. Will take place at the Dogwood & Lakeside Pavilions.\n\n\n\nEgg hunt at 11a.m. for ages 5 & under and 1p.m. for ages 6 & up.\n\n\n\nSome activities cost $1.
X-ALT-DESC;FMTTYPE=text/html:Fun filled activities &ndash\; cake hop\, facepainting\, hayrides\, hunting for eggs. Will take place at the Dogwood &amp\; Lakeside Pavilions.<br />\n<br />\nEgg hunt at 11a.m. for ages 5 &amp\; under and 1p.m. for ages 6 &amp\; up.<br />\n<br />\nSome activities cost $1.
LOCATION:Oak Mountain State Park - Dogwood and Lakeside Pavilions
UID:e.145.4511
SEQUENCE:3
DTSTAMP:20260424T153417Z
URL:https://business.shelbychamber.org/events/details/6th-annual-easter-egg-hunt-at-oak-mountain-state-park-03-30-2013-4511
END:VEVENT

END:VCALENDAR
