BEGIN:VCALENDAR
VERSION:2.0
PRODID:-//ChamberMaster//Event Calendar 2.0//EN
METHOD:PUBLISH
X-PUBLISHED-TTL:P3D
REFRESH-INTERVAL:P3D
CALSCALE:GREGORIAN
BEGIN:VEVENT
DTSTART:20120428T140000Z
DTEND:20120428T160000Z
X-MICROSOFT-CDO-ALLDAYEVENT:FALSE
SUMMARY:7 Threats to Your Family Security Workshop
DESCRIPTION:We will discuss what can be done regarding estates\, wills and trusts. We also go into the probate process\, elder law\, paying for long term care (how not to go broke paying for it) and how to get government benefits through Medicaid and Veteran's Benefits planning. There is something for everyone. It is also free\, informal\, and there is no obligation. It will give you the chance to take care of the estate planning needs you may have been putting off. We hope to see you there!
X-ALT-DESC;FMTTYPE=text/html:We will discuss what can be done regarding estates\, wills and trusts. We also go into the probate process\, elder law\, paying for long term care (how not to go broke paying for it) and how to get government benefits through Medicaid and Veteran&#39\;s Benefits planning. There is something for everyone. It is also free\, informal\, and there is no obligation. It will give you the chance to take care of the estate planning needs you may have been putting off. We hope to see you there!
LOCATION:2491 Pelham Parkway\, Pelham\, AL 35124
UID:e.145.3987
SEQUENCE:3
DTSTAMP:20260425T101933Z
URL:https://business.shelbychamber.org/events/details/7-threats-to-your-family-security-workshop-04-28-2012-3987
END:VEVENT

END:VCALENDAR
