BEGIN:VCALENDAR
VERSION:2.0
PRODID:-//ChamberMaster//Event Calendar 2.0//EN
METHOD:PUBLISH
X-PUBLISHED-TTL:P3D
REFRESH-INTERVAL:P3D
CALSCALE:GREGORIAN
BEGIN:VEVENT
DTSTART;VALUE=DATE:20121027
DTEND;VALUE=DATE:20121028
TRANSP:TRANSPARENT
X-MICROSOFT-CDO-ALLDAYEVENT:TRUE
SUMMARY:71st State Farm Magic City Classic presented by Coca-Cola
DESCRIPTION:The 71st State Farm Magic City Classic presented by Coca-Cola will be back at Legion Field on October 27\, 2012. Bring your friends and family out to witness the #1 Black College Classic in the Country compete for the Championship!
X-ALT-DESC;FMTTYPE=text/html:The 71st State Farm Magic City Classic presented by Coca-Cola will be back at Legion Field on October 27\, 2012. Bring your friends and family out to witness the #1 Black College Classic in the Country compete for the Championship!
LOCATION:Legion Field
UID:e.145.4351
SEQUENCE:3
DTSTAMP:20260424T233351Z
URL:https://business.shelbychamber.org/events/details/71st-state-farm-magic-city-classic-presented-by-coca-cola-10-27-2012-4351
END:VEVENT

END:VCALENDAR
