BEGIN:VCALENDAR
VERSION:2.0
PRODID:-//ChamberMaster//Event Calendar 2.0//EN
METHOD:PUBLISH
X-PUBLISHED-TTL:P3D
REFRESH-INTERVAL:P3D
CALSCALE:GREGORIAN
BEGIN:VEVENT
DTSTART:20140911T223000Z
DTEND:20140912T010000Z
X-MICROSOFT-CDO-ALLDAYEVENT:FALSE
SUMMARY:7th Annual Taste of Shelby County
DESCRIPTION:The event showcases roughly 30 area restaurants\, caterers\, beverage merchants\, and more! Each will be offering a sampling of a signature dish.\n\n\n\nAll proceeds benefit the Shelby County Schools Education Foundation which helps provide resources and services for creative and innovative programs for the Shelby County Schools district. These services include training and development of teachers\, technology advancement in classrooms\, and teacher mini-grants for much needed classroom supplies.\n\n\n\nThis year tickets are available online at www.shelbyedfoundation.org! We will also feature music from the Duke School of Music. Each guest receives one door prize ticket upon entry and can purchase additional tickets for $5 each or 5 for $20.\n\n\n\nThe first 100 guests will also receive a souvenir wine glass.\n\n\n\nVisit www.shelbyedfoundation.org for more info and to see a list of participating vendors.
X-ALT-DESC;FMTTYPE=text/html:The event showcases roughly 30 area restaurants\, caterers\, beverage merchants\, and more! Each will be offering a sampling of a signature dish.<br />\n<br />\nAll proceeds benefit the Shelby County Schools Education Foundation which helps provide resources and services for creative and innovative programs for the Shelby County Schools district. These services include training and development of teachers\, technology advancement in classrooms\, and teacher mini-grants for much needed classroom supplies.<br />\n<br />\nThis year tickets are available online at <a href="http://www.shelbyedfoundation.org">www.shelbyedfoundation.org</a>! We will also feature music from the Duke School of Music. Each guest receives one door prize ticket upon entry and can purchase additional tickets for $5 each or 5 for $20.<br />\n<br />\nThe first 100 guests will also receive a souvenir wine glass.<br />\n<br />\nVisit <a href="http://www.shelbyedfoundation.org">www.shelbyedfoundation.org</a> for more info and to see a list of participating vendors.
LOCATION:The Cahaba Grand Conference Center 3660 Grandview Parkway Birmingham\, AL 35243
UID:e.145.6168
SEQUENCE:3
DTSTAMP:20260423T104108Z
URL:https://business.shelbychamber.org/events/details/7th-annual-taste-of-shelby-county-09-11-2014-6168
END:VEVENT

END:VCALENDAR
