BEGIN:VCALENDAR
VERSION:2.0
PRODID:-//ChamberMaster//Event Calendar 2.0//EN
METHOD:PUBLISH
X-PUBLISHED-TTL:P3D
REFRESH-INTERVAL:P3D
CALSCALE:GREGORIAN
BEGIN:VEVENT
DTSTART:20151205T150000Z
DTEND:20151205T210000Z
X-MICROSOFT-CDO-ALLDAYEVENT:FALSE
SUMMARY:8th Annual Artist Market
DESCRIPTION:The 8th Annual Artist Market at the Shelby County Arts Council.  Members artist gather to offer their one of a kind artwork.  Featuring paintings\, photography\, fabric art\, pottery\, jewelry and more!  Find a unique gift for the person on your holiday list!
X-ALT-DESC;FMTTYPE=text/html:The 8th Annual Artist Market at the Shelby County Arts Council.&nbsp\; Members artist gather to offer their one of a kind artwork.&nbsp\; Featuring paintings\, photography\, fabric art\, pottery\, jewelry and more!&nbsp\; Find a unique gift for the person on your holiday list!
LOCATION:Shelby County Arts Council 104 Mildred Street Columbiana\, AL 35051
UID:e.145.7925
SEQUENCE:3
DTSTAMP:20260422T140708Z
URL:https://business.shelbychamber.org/events/details/8th-annual-artist-market-12-05-2015-7925
END:VEVENT

END:VCALENDAR
