BEGIN:VCALENDAR
VERSION:2.0
PRODID:-//ChamberMaster//Event Calendar 2.0//EN
METHOD:PUBLISH
X-PUBLISHED-TTL:P3D
REFRESH-INTERVAL:P3D
CALSCALE:GREGORIAN
BEGIN:VEVENT
DTSTART;VALUE=DATE:20120818
DTEND;VALUE=DATE:20120819
TRANSP:TRANSPARENT
X-MICROSOFT-CDO-ALLDAYEVENT:TRUE
SUMMARY:8th Annual Greystone 5K & lori Johnson 1M Fun Run
DESCRIPTION:96\n  800x600\n \n\n \n  Normal\n  0\n  \n  \n  \n  \n  false\n  false\n  false\n  \n  EN-US\n  JA\n  X-NONE\n  \n   \n   \n   \n   \n   \n   \n   \n   \n   \n  \n  \n   \n   \n   \n   \n   \n   \n   \n   \n   \n   \n   \n  \n\n \n  \n  \n  \n  \n  \n  \n  \n  \n  \n  \n  \n  \n  \n  \n  \n  \n  \n  \n  \n  \n  \n  \n  \n  \n  \n  \n  \n  \n  \n  \n  \n  \n  \n  \n  \n  \n  \n  \n  \n  \n  \n  \n  \n  \n  \n  \n  \n  \n  \n  \n  \n  \n  \n  \n  \n  \n  \n  \n  \n  \n  \n  \n  \n  \n  \n  \n  \n  \n  \n  \n  \n  \n  \n  \n  \n  \n  \n  \n  \n  \n  \n  \n  \n  \n  \n  \n  \n  \n  \n  \n  \n  \n  \n  \n  \n  \n  \n  \n  \n  \n  \n  \n  \n  \n  \n  \n  \n  \n  \n  \n  \n  \n  \n  \n  \n  \n  \n  \n  \n  \n  \n  \n  \n  \n  \n  \n  \n  \n  \n  \n  \n  \n  \n  \n  \n  \n  \n  \n  \n \n\n\n /* Style Definitions */\ntable.MsoNormalTable\n	{mso-style-name:"Table Normal"\;\n	mso-tstyle-rowband-size:0\;\n	mso-tstyle-colband-size:0\;\n	mso-style-noshow:yes\;\n	mso-style-priority:99\;\n	mso-style-parent:""\;\n	mso-padding-alt:0in 5.4pt 0in 5.4pt\;\n	mso-para-margin:0in\;\n	mso-para-margin-bottom:.0001pt\;\n	mso-pagination:widow-orphan\;\n	font-size:10.0pt\;\n	font-family:"Times New Roman"\;}\n\n\n\n	8th Annual Greystone 5K and Lori Johnson 1M Fun Run to Raise Funds for Ovarian Cancer Research \n\n	WHERE: Greystone Golf & Country Club 4100 Greystone Drive Birmingham\, AL 35242\;  Aquatics area\n\n	WHEN: Saturday\, August 18\, 2012 \n\n	REGISTRATION: Now online @ raceit.com and onsite August 18 at 7:00am.  Run: 8:00 am (timed) . Fun Run : 9:00 am\n\n	 \n\n	Overall winners receive cash and prizes!  All children participating in the fun run will receive a medallion as they cross the finish line.  Following the race there will be a silent auction with fantastic prizes which include a weeks stay at the Steamboat Grand in Steamboat Springs\, Colorado\, 2 three night stays in luxury beach properties in Destin\, golf packages donated by the finest local golf courses and a three course in home dinner party for 10 people provided by one of the hottest chefs in town\, Robby Melvin of Salt Fine Catering.  Bring the kids and pets!  There will also be delicious food\, pool games\, entertainment and fun for the entire family! \n\n	The Greystone 5K & Lori Johnson 1M Fun Run is held annually in memory of Lori Johnson. Lori was a healthy woman who rarely had any health problems. Because she was unaware of the signs and symptoms of ovarian cancer\, her disease was advanced by the time it was diagnosed.  Our hope is that through the Lori Johnson Fun Run we keep Lori's memory alive and make a difference in the lives of other women. Proceeds from this event benefit the Norma Livingston Ovarian Cancer Foundation.  The mission of the NLOCF is to promote awareness about the signs and symptoms of ovarian cancer and raise much needed funds for research.\n\n	Ovarian cancer is the deadliest of all gynecologic cancers and the 5th leading cause of cancer deaths among American women.  One in 71 women will suffer from ovarian cancer and more than 21\,000 American women are diagnosed each year.  Only 24% of ovarian cancers are detected in the early stages and as a result every 37 minutes a woman dies of this disease. Help us change these statistics by participating in this fun-filled family event!\n\n	To schedule an interview with a representative of the Norma Livingston Ovarian Cancer Foundation: event coordinator Cindi Routman at cindi@nlovca.org / (205) 585-6662 or Greystone Golf & Country Club Fitness Director Christy Johnson at cjohnson@greystonecc.com / (205)986-5139. \n\n	Website: nlovca.org  \n\n	Facebook: Norma Livingston Ovarian Cancer Foundation  \n\n	Twitter:twitter.com/nlocf
X-ALT-DESC;FMTTYPE=text/html:<!--[if gte mso 9]><xml>\n <o:OfficeDocumentSettings>\n  <o:PixelsPerInch>96</o:PixelsPerInch>\n  <o:TargetScreenSize>800x600</o:TargetScreenSize>\n </o:OfficeDocumentSettings>\n</xml><![endif]--><!--[if gte mso 9]><xml>\n <w:WordDocument>\n  <w:View>Normal</w:View>\n  <w:Zoom>0</w:Zoom>\n  <w:TrackMoves/>\n  <w:TrackFormatting/>\n  <w:PunctuationKerning/>\n  <w:ValidateAgainstSchemas/>\n  <w:SaveIfXMLInvalid>false</w:SaveIfXMLInvalid>\n  <w:IgnoreMixedContent>false</w:IgnoreMixedContent>\n  <w:AlwaysShowPlaceholderText>false</w:AlwaysShowPlaceholderText>\n  <w:DoNotPromoteQF/>\n  <w:LidThemeOther>EN-US</w:LidThemeOther>\n  <w:LidThemeAsian>JA</w:LidThemeAsian>\n  <w:LidThemeComplexScript>X-NONE</w:LidThemeComplexScript>\n  <w:Compatibility>\n   <w:BreakWrappedTables/>\n   <w:SnapToGridInCell/>\n   <w:WrapTextWithPunct/>\n   <w:UseAsianBreakRules/>\n   <w:DontGrowAutofit/>\n   <w:SplitPgBreakAndParaMark/>\n   <w:EnableOpenTypeKerning/>\n   <w:DontFlipMirrorIndents/>\n   <w:OverrideTableStyleHps/>\n  </w:Compatibility>\n  <m:mathPr>\n   <m:mathFont m:val="Cambria Math"/>\n   <m:brkBin m:val="before"/>\n   <m:brkBinSub m:val="&#45\;-"/>\n   <m:smallFrac m:val="off"/>\n   <m:dispDef/>\n   <m:lMargin m:val="0"/>\n   <m:rMargin m:val="0"/>\n   <m:defJc m:val="centerGroup"/>\n   <m:wrapIndent m:val="1440"/>\n   <m:intLim m:val="subSup"/>\n   <m:naryLim m:val="undOvr"/>\n  </m:mathPr></w:WordDocument>\n</xml><![endif]--><!--[if gte mso 9]><xml>\n <w:LatentStyles DefLockedState="false" DefUnhideWhenUsed="true"\n  DefSemiHidden="true" DefQFormat="false" DefPriority="99"\n  LatentStyleCount="276">\n  <w:LsdException Locked="false" Priority="0" SemiHidden="false"\n   UnhideWhenUsed="false" QFormat="true" Name="Normal"/>\n  <w:LsdException Locked="false" Priority="9" SemiHidden="false"\n   UnhideWhenUsed="false" QFormat="true" Name="heading 1"/>\n  <w:LsdException Locked="false" Priority="9" QFormat="true" Name="heading 2"/>\n  <w:LsdException Locked="false" Priority="9" QFormat="true" Name="heading 3"/>\n  <w:LsdException Locked="false" Priority="9" QFormat="true" Name="heading 4"/>\n  <w:LsdException Locked="false" Priority="9" QFormat="true" Name="heading 5"/>\n  <w:LsdException Locked="false" Priority="9" QFormat="true" Name="heading 6"/>\n  <w:LsdException Locked="false" Priority="9" QFormat="true" Name="heading 7"/>\n  <w:LsdException Locked="false" Priority="9" QFormat="true" Name="heading 8"/>\n  <w:LsdException Locked="false" Priority="9" QFormat="true" Name="heading 9"/>\n  <w:LsdException Locked="false" Priority="39" Name="toc 1"/>\n  <w:LsdException Locked="false" Priority="39" Name="toc 2"/>\n  <w:LsdException Locked="false" Priority="39" Name="toc 3"/>\n  <w:LsdException Locked="false" Priority="39" Name="toc 4"/>\n  <w:LsdException Locked="false" Priority="39" Name="toc 5"/>\n  <w:LsdException Locked="false" Priority="39" Name="toc 6"/>\n  <w:LsdException Locked="false" Priority="39" Name="toc 7"/>\n  <w:LsdException Locked="false" Priority="39" Name="toc 8"/>\n  <w:LsdException Locked="false" Priority="39" Name="toc 9"/>\n  <w:LsdException Locked="false" Priority="35" QFormat="true" Name="caption"/>\n  <w:LsdException Locked="false" Priority="10" SemiHidden="false"\n   UnhideWhenUsed="false" QFormat="true" Name="Title"/>\n  <w:LsdException Locked="false" Priority="0" Name="Default Paragraph Font"/>\n  <w:LsdException Locked="false" Priority="11" SemiHidden="false"\n   UnhideWhenUsed="false" QFormat="true" Name="Subtitle"/>\n  <w:LsdException Locked="false" Priority="0" Name="Hyperlink"/>\n  <w:LsdException Locked="false" Priority="22" SemiHidden="false"\n   UnhideWhenUsed="false" QFormat="true" Name="Strong"/>\n  <w:LsdException Locked="false" Priority="20" SemiHidden="false"\n   UnhideWhenUsed="false" QFormat="true" Name="Emphasis"/>\n  <w:LsdException Locked="false" Priority="0" Name="Normal (Web)"/>\n  <w:LsdException Locked="false" Priority="59" SemiHidden="false"\n   UnhideWhenUsed="false" Name="Table Grid"/>\n  <w:LsdException Locked="false" UnhideWhenUsed="false" Name="Placeholder Text"/>\n  <w:LsdException Locked="false" Priority="1" SemiHidden="false"\n   UnhideWhenUsed="false" QFormat="true" Name="No Spacing"/>\n  <w:LsdException Locked="false" Priority="60" SemiHidden="false"\n   UnhideWhenUsed="false" Name="Light Shading"/>\n  <w:LsdException Locked="false" Priority="61" SemiHidden="false"\n   UnhideWhenUsed="false" Name="Light List"/>\n  <w:LsdException Locked="false" Priority="62" SemiHidden="false"\n   UnhideWhenUsed="false" Name="Light Grid"/>\n  <w:LsdException Locked="false" Priority="63" SemiHidden="false"\n   UnhideWhenUsed="false" Name="Medium Shading 1"/>\n  <w:LsdException Locked="false" Priority="64" SemiHidden="false"\n   UnhideWhenUsed="false" Name="Medium Shading 2"/>\n  <w:LsdException Locked="false" Priority="65" SemiHidden="false"\n   UnhideWhenUsed="false" Name="Medium List 1"/>\n  <w:LsdException Locked="false" Priority="66" SemiHidden="false"\n   UnhideWhenUsed="false" Name="Medium List 2"/>\n  <w:LsdException Locked="false" Priority="67" SemiHidden="false"\n   UnhideWhenUsed="false" Name="Medium Grid 1"/>\n  <w:LsdException Locked="false" Priority="68" SemiHidden="false"\n   UnhideWhenUsed="false" Name="Medium Grid 2"/>\n  <w:LsdException Locked="false" Priority="69" SemiHidden="false"\n   UnhideWhenUsed="false" Name="Medium Grid 3"/>\n  <w:LsdException Locked="false" Priority="70" SemiHidden="false"\n   UnhideWhenUsed="false" Name="Dark List"/>\n  <w:LsdException Locked="false" Priority="71" SemiHidden="false"\n   UnhideWhenUsed="false" Name="Colorful Shading"/>\n  <w:LsdException Locked="false" Priority="72" SemiHidden="false"\n   UnhideWhenUsed="false" Name="Colorful List"/>\n  <w:LsdException Locked="false" Priority="73" SemiHidden="false"\n   UnhideWhenUsed="false" Name="Colorful Grid"/>\n  <w:LsdException Locked="false" Priority="60" SemiHidden="false"\n   UnhideWhenUsed="false" Name="Light Shading Accent 1"/>\n  <w:LsdException Locked="false" Priority="61" SemiHidden="false"\n   UnhideWhenUsed="false" Name="Light List Accent 1"/>\n  <w:LsdException Locked="false" Priority="62" SemiHidden="false"\n   UnhideWhenUsed="false" Name="Light Grid Accent 1"/>\n  <w:LsdException Locked="false" Priority="63" SemiHidden="false"\n   UnhideWhenUsed="false" Name="Medium Shading 1 Accent 1"/>\n  <w:LsdException Locked="false" Priority="64" SemiHidden="false"\n   UnhideWhenUsed="false" Name="Medium Shading 2 Accent 1"/>\n  <w:LsdException Locked="false" Priority="65" SemiHidden="false"\n   UnhideWhenUsed="false" Name="Medium List 1 Accent 1"/>\n  <w:LsdException Locked="false" UnhideWhenUsed="false" Name="Revision"/>\n  <w:LsdException Locked="false" Priority="34" SemiHidden="false"\n   UnhideWhenUsed="false" QFormat="true" Name="List Paragraph"/>\n  <w:LsdException Locked="false" Priority="29" SemiHidden="false"\n   UnhideWhenUsed="false" QFormat="true" Name="Quote"/>\n  <w:LsdException Locked="false" Priority="30" SemiHidden="false"\n   UnhideWhenUsed="false" QFormat="true" Name="Intense Quote"/>\n  <w:LsdException Locked="false" Priority="66" SemiHidden="false"\n   UnhideWhenUsed="false" Name="Medium List 2 Accent 1"/>\n  <w:LsdException Locked="false" Priority="67" SemiHidden="false"\n   UnhideWhenUsed="false" Name="Medium Grid 1 Accent 1"/>\n  <w:LsdException Locked="false" Priority="68" SemiHidden="false"\n   UnhideWhenUsed="false" Name="Medium Grid 2 Accent 1"/>\n  <w:LsdException Locked="false" Priority="69" SemiHidden="false"\n   UnhideWhenUsed="false" Name="Medium Grid 3 Accent 1"/>\n  <w:LsdException Locked="false" Priority="70" SemiHidden="false"\n   UnhideWhenUsed="false" Name="Dark List Accent 1"/>\n  <w:LsdException Locked="false" Priority="71" SemiHidden="false"\n   UnhideWhenUsed="false" Name="Colorful Shading Accent 1"/>\n  <w:LsdException Locked="false" Priority="72" SemiHidden="false"\n   UnhideWhenUsed="false" Name="Colorful List Accent 1"/>\n  <w:LsdException Locked="false" Priority="73" SemiHidden="false"\n   UnhideWhenUsed="false" Name="Colorful Grid Accent 1"/>\n  <w:LsdException Locked="false" Priority="60" SemiHidden="false"\n   UnhideWhenUsed="false" Name="Light Shading Accent 2"/>\n  <w:LsdException Locked="false" Priority="61" SemiHidden="false"\n   UnhideWhenUsed="false" Name="Light List Accent 2"/>\n  <w:LsdException Locked="false" Priority="62" SemiHidden="false"\n   UnhideWhenUsed="false" Name="Light Grid Accent 2"/>\n  <w:LsdException Locked="false" Priority="63" SemiHidden="false"\n   UnhideWhenUsed="false" Name="Medium Shading 1 Accent 2"/>\n  <w:LsdException Locked="false" Priority="64" SemiHidden="false"\n   UnhideWhenUsed="false" Name="Medium Shading 2 Accent 2"/>\n  <w:LsdException Locked="false" Priority="65" SemiHidden="false"\n   UnhideWhenUsed="false" Name="Medium List 1 Accent 2"/>\n  <w:LsdException Locked="false" Priority="66" SemiHidden="false"\n   UnhideWhenUsed="false" Name="Medium List 2 Accent 2"/>\n  <w:LsdException Locked="false" Priority="67" SemiHidden="false"\n   UnhideWhenUsed="false" Name="Medium Grid 1 Accent 2"/>\n  <w:LsdException Locked="false" Priority="68" SemiHidden="false"\n   UnhideWhenUsed="false" Name="Medium Grid 2 Accent 2"/>\n  <w:LsdException Locked="false" Priority="69" SemiHidden="false"\n   UnhideWhenUsed="false" Name="Medium Grid 3 Accent 2"/>\n  <w:LsdException Locked="false" Priority="70" SemiHidden="false"\n   UnhideWhenUsed="false" Name="Dark List Accent 2"/>\n  <w:LsdException Locked="false" Priority="71" SemiHidden="false"\n   UnhideWhenUsed="false" Name="Colorful Shading Accent 2"/>\n  <w:LsdException Locked="false" Priority="72" SemiHidden="false"\n   UnhideWhenUsed="false" Name="Colorful List Accent 2"/>\n  <w:LsdException Locked="false" Priority="73" SemiHidden="false"\n   UnhideWhenUsed="false" Name="Colorful Grid Accent 2"/>\n  <w:LsdException Locked="false" Priority="60" SemiHidden="false"\n   UnhideWhenUsed="false" Name="Light Shading Accent 3"/>\n  <w:LsdException Locked="false" Priority="61" SemiHidden="false"\n   UnhideWhenUsed="false" Name="Light List Accent 3"/>\n  <w:LsdException Locked="false" Priority="62" SemiHidden="false"\n   UnhideWhenUsed="false" Name="Light Grid Accent 3"/>\n  <w:LsdException Locked="false" Priority="63" SemiHidden="false"\n   UnhideWhenUsed="false" Name="Medium Shading 1 Accent 3"/>\n  <w:LsdException Locked="false" Priority="64" SemiHidden="false"\n   UnhideWhenUsed="false" Name="Medium Shading 2 Accent 3"/>\n  <w:LsdException Locked="false" Priority="65" SemiHidden="false"\n   UnhideWhenUsed="false" Name="Medium List 1 Accent 3"/>\n  <w:LsdException Locked="false" Priority="66" SemiHidden="false"\n   UnhideWhenUsed="false" Name="Medium List 2 Accent 3"/>\n  <w:LsdException Locked="false" Priority="67" SemiHidden="false"\n   UnhideWhenUsed="false" Name="Medium Grid 1 Accent 3"/>\n  <w:LsdException Locked="false" Priority="68" SemiHidden="false"\n   UnhideWhenUsed="false" Name="Medium Grid 2 Accent 3"/>\n  <w:LsdException Locked="false" Priority="69" SemiHidden="false"\n   UnhideWhenUsed="false" Name="Medium Grid 3 Accent 3"/>\n  <w:LsdException Locked="false" Priority="70" SemiHidden="false"\n   UnhideWhenUsed="false" Name="Dark List Accent 3"/>\n  <w:LsdException Locked="false" Priority="71" SemiHidden="false"\n   UnhideWhenUsed="false" Name="Colorful Shading Accent 3"/>\n  <w:LsdException Locked="false" Priority="72" SemiHidden="false"\n   UnhideWhenUsed="false" Name="Colorful List Accent 3"/>\n  <w:LsdException Locked="false" Priority="73" SemiHidden="false"\n   UnhideWhenUsed="false" Name="Colorful Grid Accent 3"/>\n  <w:LsdException Locked="false" Priority="60" SemiHidden="false"\n   UnhideWhenUsed="false" Name="Light Shading Accent 4"/>\n  <w:LsdException Locked="false" Priority="61" SemiHidden="false"\n   UnhideWhenUsed="false" Name="Light List Accent 4"/>\n  <w:LsdException Locked="false" Priority="62" SemiHidden="false"\n   UnhideWhenUsed="false" Name="Light Grid Accent 4"/>\n  <w:LsdException Locked="false" Priority="63" SemiHidden="false"\n   UnhideWhenUsed="false" Name="Medium Shading 1 Accent 4"/>\n  <w:LsdException Locked="false" Priority="64" SemiHidden="false"\n   UnhideWhenUsed="false" Name="Medium Shading 2 Accent 4"/>\n  <w:LsdException Locked="false" Priority="65" SemiHidden="false"\n   UnhideWhenUsed="false" Name="Medium List 1 Accent 4"/>\n  <w:LsdException Locked="false" Priority="66" SemiHidden="false"\n   UnhideWhenUsed="false" Name="Medium List 2 Accent 4"/>\n  <w:LsdException Locked="false" Priority="67" SemiHidden="false"\n   UnhideWhenUsed="false" Name="Medium Grid 1 Accent 4"/>\n  <w:LsdException Locked="false" Priority="68" SemiHidden="false"\n   UnhideWhenUsed="false" Name="Medium Grid 2 Accent 4"/>\n  <w:LsdException Locked="false" Priority="69" SemiHidden="false"\n   UnhideWhenUsed="false" Name="Medium Grid 3 Accent 4"/>\n  <w:LsdException Locked="false" Priority="70" SemiHidden="false"\n   UnhideWhenUsed="false" Name="Dark List Accent 4"/>\n  <w:LsdException Locked="false" Priority="71" SemiHidden="false"\n   UnhideWhenUsed="false" Name="Colorful Shading Accent 4"/>\n  <w:LsdException Locked="false" Priority="72" SemiHidden="false"\n   UnhideWhenUsed="false" Name="Colorful List Accent 4"/>\n  <w:LsdException Locked="false" Priority="73" SemiHidden="false"\n   UnhideWhenUsed="false" Name="Colorful Grid Accent 4"/>\n  <w:LsdException Locked="false" Priority="60" SemiHidden="false"\n   UnhideWhenUsed="false" Name="Light Shading Accent 5"/>\n  <w:LsdException Locked="false" Priority="61" SemiHidden="false"\n   UnhideWhenUsed="false" Name="Light List Accent 5"/>\n  <w:LsdException Locked="false" Priority="62" SemiHidden="false"\n   UnhideWhenUsed="false" Name="Light Grid Accent 5"/>\n  <w:LsdException Locked="false" Priority="63" SemiHidden="false"\n   UnhideWhenUsed="false" Name="Medium Shading 1 Accent 5"/>\n  <w:LsdException Locked="false" Priority="64" SemiHidden="false"\n   UnhideWhenUsed="false" Name="Medium Shading 2 Accent 5"/>\n  <w:LsdException Locked="false" Priority="65" SemiHidden="false"\n   UnhideWhenUsed="false" Name="Medium List 1 Accent 5"/>\n  <w:LsdException Locked="false" Priority="66" SemiHidden="false"\n   UnhideWhenUsed="false" Name="Medium List 2 Accent 5"/>\n  <w:LsdException Locked="false" Priority="67" SemiHidden="false"\n   UnhideWhenUsed="false" Name="Medium Grid 1 Accent 5"/>\n  <w:LsdException Locked="false" Priority="68" SemiHidden="false"\n   UnhideWhenUsed="false" Name="Medium Grid 2 Accent 5"/>\n  <w:LsdException Locked="false" Priority="69" SemiHidden="false"\n   UnhideWhenUsed="false" Name="Medium Grid 3 Accent 5"/>\n  <w:LsdException Locked="false" Priority="70" SemiHidden="false"\n   UnhideWhenUsed="false" Name="Dark List Accent 5"/>\n  <w:LsdException Locked="false" Priority="71" SemiHidden="false"\n   UnhideWhenUsed="false" Name="Colorful Shading Accent 5"/>\n  <w:LsdException Locked="false" Priority="72" SemiHidden="false"\n   UnhideWhenUsed="false" Name="Colorful List Accent 5"/>\n  <w:LsdException Locked="false" Priority="73" SemiHidden="false"\n   UnhideWhenUsed="false" Name="Colorful Grid Accent 5"/>\n  <w:LsdException Locked="false" Priority="60" SemiHidden="false"\n   UnhideWhenUsed="false" Name="Light Shading Accent 6"/>\n  <w:LsdException Locked="false" Priority="61" SemiHidden="false"\n   UnhideWhenUsed="false" Name="Light List Accent 6"/>\n  <w:LsdException Locked="false" Priority="62" SemiHidden="false"\n   UnhideWhenUsed="false" Name="Light Grid Accent 6"/>\n  <w:LsdException Locked="false" Priority="63" SemiHidden="false"\n   UnhideWhenUsed="false" Name="Medium Shading 1 Accent 6"/>\n  <w:LsdException Locked="false" Priority="64" SemiHidden="false"\n   UnhideWhenUsed="false" Name="Medium Shading 2 Accent 6"/>\n  <w:LsdException Locked="false" Priority="65" SemiHidden="false"\n   UnhideWhenUsed="false" Name="Medium List 1 Accent 6"/>\n  <w:LsdException Locked="false" Priority="66" SemiHidden="false"\n   UnhideWhenUsed="false" Name="Medium List 2 Accent 6"/>\n  <w:LsdException Locked="false" Priority="67" SemiHidden="false"\n   UnhideWhenUsed="false" Name="Medium Grid 1 Accent 6"/>\n  <w:LsdException Locked="false" Priority="68" SemiHidden="false"\n   UnhideWhenUsed="false" Name="Medium Grid 2 Accent 6"/>\n  <w:LsdException Locked="false" Priority="69" SemiHidden="false"\n   UnhideWhenUsed="false" Name="Medium Grid 3 Accent 6"/>\n  <w:LsdException Locked="false" Priority="70" SemiHidden="false"\n   UnhideWhenUsed="false" Name="Dark List Accent 6"/>\n  <w:LsdException Locked="false" Priority="71" SemiHidden="false"\n   UnhideWhenUsed="false" Name="Colorful Shading Accent 6"/>\n  <w:LsdException Locked="false" Priority="72" SemiHidden="false"\n   UnhideWhenUsed="false" Name="Colorful List Accent 6"/>\n  <w:LsdException Locked="false" Priority="73" SemiHidden="false"\n   UnhideWhenUsed="false" Name="Colorful Grid Accent 6"/>\n  <w:LsdException Locked="false" Priority="19" SemiHidden="false"\n   UnhideWhenUsed="false" QFormat="true" Name="Subtle Emphasis"/>\n  <w:LsdException Locked="false" Priority="21" SemiHidden="false"\n   UnhideWhenUsed="false" QFormat="true" Name="Intense Emphasis"/>\n  <w:LsdException Locked="false" Priority="31" SemiHidden="false"\n   UnhideWhenUsed="false" QFormat="true" Name="Subtle Reference"/>\n  <w:LsdException Locked="false" Priority="32" SemiHidden="false"\n   UnhideWhenUsed="false" QFormat="true" Name="Intense Reference"/>\n  <w:LsdException Locked="false" Priority="33" SemiHidden="false"\n   UnhideWhenUsed="false" QFormat="true" Name="Book Title"/>\n  <w:LsdException Locked="false" Priority="37" Name="Bibliography"/>\n  <w:LsdException Locked="false" Priority="39" QFormat="true" Name="TOC Heading"/>\n </w:LatentStyles>\n</xml><![endif]--><!--[if gte mso 10]>\n<style>\n /* Style Definitions */\ntable.MsoNormalTable\n	{mso-style-name:"Table Normal"\;\n	mso-tstyle-rowband-size:0\;\n	mso-tstyle-colband-size:0\;\n	mso-style-noshow:yes\;\n	mso-style-priority:99\;\n	mso-style-parent:""\;\n	mso-padding-alt:0in 5.4pt 0in 5.4pt\;\n	mso-para-margin:0in\;\n	mso-para-margin-bottom:.0001pt\;\n	mso-pagination:widow-orphan\;\n	font-size:10.0pt\;\n	font-family:"Times New Roman"\;}\n</style>\n<![endif]--><!--StartFragment-->\n<p class="Default">\n	<b><span style="font-size:11.5pt">8th Annual Greystone 5K and Lori Johnson 1M Fun Run to Raise Funds for Ovarian Cancer Research <o:p></o:p></span></b></p>\n<p class="Default">\n	<b><span style="font-size:11.5pt">WHERE: </span></b><span style="font-size:11.5pt\;mso-bidi-font-weight:bold">Greystone Golf &amp\; Country Club 4100 Greystone Drive Birmingham\, AL 35242\;<b><span style="mso-spacerun:yes">&nbsp\; </span></b>Aquatics area</span><span style="font-size:11.5pt"><o:p></o:p></span></p>\n<p class="Default">\n	<b><span style="font-size:11.0pt">WHEN: </span></b><span style="font-size:11.0pt">Saturday\, August 18\, 2012 <o:p></o:p></span></p>\n<p class="Default">\n	<b style="mso-bidi-font-weight:normal"><span style="font-size:\n11.0pt">REGISTRATION</span></b><span style="font-size:11.0pt">: Now online @ raceit.com and onsite August 18 at 7:00am.<span style="mso-spacerun:yes">&nbsp\; </span>Run: 8:00 am (timed) . Fun Run : 9:00 am<o:p></o:p></span></p>\n<p class="Default">\n	<span style="font-size:11.0pt"><o:p>&nbsp\;</o:p></span></p>\n<p style="margin-top:0in\;margin-right:0in\;margin-bottom:12.0pt\;margin-left:\n0in">\n	<span style="font-size:11.0pt\;font-family:Calibri\;mso-bidi-font-family:\nArial">Overall winners receive cash and prizes!&nbsp\; All children participating in the fun run will receive a medallion as they cross the finish line.&nbsp\; Following the race there will be a silent auction with fantastic prizes which include a weeks stay at the Steamboat Grand in Steamboat Springs\, Colorado\, 2 three night stays in luxury beach properties in Destin\, golf packages donated by the finest local golf courses and a three course in home dinner party for 10 people provided by one of the hottest chefs in town\, Robby Melvin of Salt Fine Catering.<span style="mso-spacerun:yes">&nbsp\; </span>Bring the kids and pets!<span style="mso-spacerun:yes">&nbsp\; </span>There will also be delicious food\, pool games\, entertainment and fun for the entire family!&nbsp\;<o:p></o:p></span></p>\n<p style="margin-top:0in\;margin-right:0in\;margin-bottom:12.0pt\;margin-left:\n0in">\n	<span style="font-size:11.0pt\;font-family:Calibri\;mso-bidi-font-family:\nArial">The Greystone 5K &amp\; Lori Johnson 1M Fun Run is held annually in memory of Lori Johnson. Lori was a healthy woman who rarely had any health problems. Because she was unaware of the signs and symptoms of ovarian cancer\, her disease was advanced by the time it was diagnosed.<span style="mso-spacerun:yes">&nbsp\; </span>Our hope is that through the Lori Johnson Fun Run we keep Lori&#39\;s memory alive and make a difference in the lives of other women. Proceeds from this event benefit the Norma Livingston Ovarian Cancer Foundation.<span style="mso-spacerun:yes">&nbsp\; </span>The mission of the NLOCF is to promote awareness about the signs and symptoms of ovarian cancer and raise much needed funds for research.<o:p></o:p></span></p>\n<p class="MsoNormal">\n	<span style="mso-bidi-font-family:Arial">Ovarian cancer is the deadliest of all gynecologic cancers and the 5<sup>th</sup> leading cause of cancer deaths among American women.&nbsp\; One in 71 women will suffer from ovarian cancer and more than 21\,000 American women are diagnosed each year.&nbsp\; Only 24% of ovarian cancers are detected in the early stages and as a result every 37 minutes a woman dies of this disease. Help us change these statistics by participating in this fun-filled family event!<o:p></o:p></span></p>\n<p class="Default">\n	<b><span style="font-size:11.0pt">To schedule an interview with a representative of the Norma Livingston Ovarian Cancer Foundation: event coordinator Cindi Routman at </span></b><span style="font-size:11.0pt"><a href="mailto:cindi@nlovca.org">cindi@nlovca.org</a> <b>/ (205) 585-6662 or Greystone Golf &amp\; Country Club Fitness Director Christy Johnson at <a href="mailto:cjohnson@greystonecc.com">cjohnson@greystonecc.com</a> / (205)986-5139. <o:p></o:p></b></span></p>\n<p class="Default">\n	<b><span style="font-size:11.0pt">Website: nlovca.org<span style="mso-spacerun:yes">&nbsp\; </span><o:p></o:p></span></b></p>\n<p class="Default">\n	<b><span style="font-size:11.0pt">Facebook: Norma Livingston Ovarian Cancer Foundation<span style="mso-spacerun:yes">&nbsp\; </span><o:p></o:p></span></b></p>\n<p class="Default">\n	<b><span style="font-size:11.0pt">Twitter:twitter.com/nlocf<o:p></o:p></span></b></p>\n<!--EndFragment-->
LOCATION:Greystone Country Club / Acquatic Center
UID:e.145.4259
SEQUENCE:3
DTSTAMP:20260425T024524Z
URL:https://business.shelbychamber.org/events/details/8th-annual-greystone-5k-lori-johnson-1m-fun-run-08-18-2012-4259
END:VEVENT

END:VCALENDAR
