BEGIN:VCALENDAR
VERSION:2.0
PRODID:-//ChamberMaster//Event Calendar 2.0//EN
METHOD:PUBLISH
X-PUBLISHED-TTL:P3D
REFRESH-INTERVAL:P3D
CALSCALE:GREGORIAN
BEGIN:VEVENT
DTSTART:20110911T190000Z
DTEND:20110911T210000Z
X-MICROSOFT-CDO-ALLDAYEVENT:FALSE
SUMMARY:9/11 Memorial Service at the Westover City Park
DESCRIPTION:Please plan on attending a 9/11 Memorial Service at the Westover City Park on Sunday at 2 PM. We will to recognize Veterans\, Fire\, Police and Military so please extend a Special Invitation to those services.\n\n \n\nThanks\,\n\n \n\nMark McLaughlin\n\nMayor\n\nWestover\, Alabama
X-ALT-DESC;FMTTYPE=text/html:<br />\nPlease plan on attending a 9/11 Memorial Service at the Westover City Park on Sunday at 2 PM. We will to recognize Veterans\, Fire\, Police and Military so please extend a Special Invitation to those services.<br />\n&nbsp\;<br />\nThanks\,<br />\n&nbsp\;<br />\nMark McLaughlin<br />\nMayor<br />\nWestover\, Alabama
LOCATION:Westover City Park 3312 Westover Road Westover\, Alabama 35147 Phone 205-678-3375
UID:e.145.3514
SEQUENCE:3
DTSTAMP:20260425T200931Z
URL:https://business.shelbychamber.org/events/details/9-11-memorial-service-at-the-westover-city-park-09-11-2011-3514
END:VEVENT

END:VCALENDAR
