BEGIN:VCALENDAR
VERSION:2.0
PRODID:-//ChamberMaster//Event Calendar 2.0//EN
METHOD:PUBLISH
X-PUBLISHED-TTL:P3D
REFRESH-INTERVAL:P3D
CALSCALE:GREGORIAN
BEGIN:VEVENT
DTSTART:20110423T230000Z
DTEND:20110424T020000Z
X-MICROSOFT-CDO-ALLDAYEVENT:FALSE
SUMMARY:A#314 RELAXED\, CREATIVE\, PRODUCTIVE: Tuesday Evening adult painting class
DESCRIPTION:Tuesday evening adult painting. Relaxed Studio Class. No experience necessary! Personalized attention given.\n\nChoice of oil or acrylic medium!\n\nAges 15 - Adult\n\nSupply List of Recommended Materials Provided \n\nhttps://app.etapestry.com/cart/ShelbyCountyArtsCouncilAC/default/category.php?ref=2270.0.11623463
X-ALT-DESC;FMTTYPE=text/html:Tuesday evening adult painting. Relaxed Studio Class. No experience necessary! Personalized attention given.\n<br>Choice of oil or acrylic medium!\n<br>Ages 15 - Adult\n<br>Supply List of Recommended Materials Provided \n<br>https://app.etapestry.com/cart/ShelbyCountyArtsCouncilAC/default/category.php?ref=2270.0.11623463
LOCATION:Shelby County Arts Council Studio - 104 Mildred Street\, Columbiana\, AL 35051
UID:e.145.2405
SEQUENCE:3
DTSTAMP:20260426T035331Z
URL:https://business.shelbychamber.org/events/details/a-314-relaxed-creative-productive-tuesday-evening-adult-painting-class-04-23-2011-2405
END:VEVENT

END:VCALENDAR
