BEGIN:VCALENDAR
VERSION:2.0
PRODID:-//ChamberMaster//Event Calendar 2.0//EN
METHOD:PUBLISH
X-PUBLISHED-TTL:P3D
REFRESH-INTERVAL:P3D
CALSCALE:GREGORIAN
BEGIN:VEVENT
DTSTART:20150823T003000Z
DTEND:20150823T020000Z
X-MICROSOFT-CDO-ALLDAYEVENT:FALSE
SUMMARY:A Lady with all the Answers: The Ann Landers Story
DESCRIPTION:Wake up and smell the coffee! Award-winning actress Dolores Hydock stars in this funny and touching one-woman play that gives a behind-the-scenes look at the life and career of the outspoken\, feisty\, much-loved advice columnist Ann Landers. Written by: David Rambo \n\nDoors open at 7:00pm.  Show starts at 7:30pm.  General Admission Seating. \n\nClick to Order tickets\, $20.00
X-ALT-DESC;FMTTYPE=text/html:<p><span style="font-size:medium"><span style="font-family:arial">Wake up and smell the coffee! Award-winning actress Dolores Hydock stars in this funny and touching one-woman play that gives a behind-the-scenes look at the life and career of the outspoken\, feisty\, much-loved advice columnist Ann Landers. Written by: David Rambo </span></span></p>\n\n<p><span style="color:rgb(0\, 0\, 255)"><span style="font-size:medium"><span style="font-family:arial">Doors open at 7:00pm.&nbsp\; Show starts at 7:30pm.&nbsp\; General Admission Seating. </span></span></span></p>\n\n<p><a href="http://www.shelbycountyartscouncil.com/shop/387/Performance%3A+The+Lady+with+all+the+Answers%2C+Dolores+Hydock.htm"><span style="font-size:medium"><span style="font-family:arial">Click to Order tickets\, $20.00&nbsp\;</span></span></a></p>\n
LOCATION:Shelby County Arts Council 104 Mildred Street Columbiana\, AL 35051
UID:e.145.7769
SEQUENCE:3
DTSTAMP:20260422T200058Z
URL:https://business.shelbychamber.org/events/details/a-lady-with-all-the-answers-the-ann-landers-story-08-22-2015-7769
END:VEVENT

END:VCALENDAR
