BEGIN:VCALENDAR
VERSION:2.0
PRODID:-//ChamberMaster//Event Calendar 2.0//EN
METHOD:PUBLISH
X-PUBLISHED-TTL:P3D
REFRESH-INTERVAL:P3D
CALSCALE:GREGORIAN
BEGIN:VEVENT
DTSTART:20140323T000000Z
DTEND:20140323T190000Z
X-MICROSOFT-CDO-ALLDAYEVENT:FALSE
SUMMARY:A Sweet Strangeness Thrills My Heart: The Journals of Sallie Independence Foster
DESCRIPTION:Starring Dolores Hydock and Bobby Horton! This promises to be a riveting stage performance. Dolores sold out a month in advance last summer. Buy your season pass so you don't miss out.
X-ALT-DESC;FMTTYPE=text/html:Starring Dolores Hydock and Bobby Horton! This promises to be a riveting stage performance. Dolores sold out a month in advance last summer. Buy your season pass so you don&#39\;t miss out.&nbsp\; 
LOCATION:Shelby County Arts Council
UID:e.145.4917
SEQUENCE:3
DTSTAMP:20260423T202026Z
URL:https://business.shelbychamber.org/events/details/a-sweet-strangeness-thrills-my-heart-the-journals-of-sallie-independence-foster-03-22-2014-4917
END:VEVENT

END:VCALENDAR
