BEGIN:VCALENDAR
VERSION:2.0
PRODID:-//ChamberMaster//Event Calendar 2.0//EN
METHOD:PUBLISH
X-PUBLISHED-TTL:P3D
REFRESH-INTERVAL:P3D
CALSCALE:GREGORIAN
BEGIN:VEVENT
DTSTART:20110404T230000Z
DTEND:20110426T010000Z
X-MICROSOFT-CDO-ALLDAYEVENT:FALSE
SUMMARY:#A700 studio open- pottery
DESCRIPTION:Bring you own clay and glazes\, Experienced artists are invited to work in our studio\, 5 wheels and kiln available\, call the Arts Council to schedule\, kiln is fired at cone 6\, additional firing fees not included.
X-ALT-DESC;FMTTYPE=text/html:Bring you own clay and glazes\, Experienced artists are invited to work in our studio\, 5 wheels and kiln available\, call the Arts Council to schedule\, kiln is fired at cone 6\, additional firing fees not included.
LOCATION:Shelby County Arts Council Studio- Columbiana
UID:e.145.3303
SEQUENCE:3
DTSTAMP:20260426T033543Z
URL:https://business.shelbychamber.org/events/details/a700-studio-open-pottery-04-04-2011-3303
END:VEVENT

END:VCALENDAR
