BEGIN:VCALENDAR
VERSION:2.0
PRODID:-//ChamberMaster//Event Calendar 2.0//EN
METHOD:PUBLISH
X-PUBLISHED-TTL:P3D
REFRESH-INTERVAL:P3D
CALSCALE:GREGORIAN
BEGIN:VEVENT
DTSTART:20131110T000000Z
DTEND:20131110T030000Z
X-MICROSOFT-CDO-ALLDAYEVENT:FALSE
SUMMARY:Aaron's Staff 2nd Annual Gala
DESCRIPTION:Fundraising event benefitting parents and guardians who have children with special needs.\n\n\n\nSilent auction. Pictures with Santa. Talent Show. Banquet dinner. And more.
X-ALT-DESC;FMTTYPE=text/html:Fundraising event benefitting parents and guardians who have children with special needs.<br />\n<br />\nSilent auction. Pictures with Santa. Talent Show. Banquet dinner. And more.
LOCATION:First Baptist Church of Alabaster\, AL 903 3rd Ave. NW
UID:e.145.4745
SEQUENCE:3
DTSTAMP:20260424T033445Z
URL:https://business.shelbychamber.org/events/details/aaron-s-staff-2nd-annual-gala-11-09-2013-4745
END:VEVENT

END:VCALENDAR
