BEGIN:VCALENDAR
VERSION:2.0
PRODID:-//ChamberMaster//Event Calendar 2.0//EN
METHOD:PUBLISH
X-PUBLISHED-TTL:P3D
REFRESH-INTERVAL:P3D
CALSCALE:GREGORIAN
BEGIN:VEVENT
DTSTART:20140617T210000Z
DTEND:20140617T230000Z
X-MICROSOFT-CDO-ALLDAYEVENT:FALSE
SUMMARY:AccelAbility Physical Therapy Open House
DESCRIPTION:Tour our Pelham Facility and Meet the professional Staff.\n\nDoor Prizes\, Snacks and Refreshments.
X-ALT-DESC;FMTTYPE=text/html:<h3 style="color:blue\;"><strong>Tour our Pelham Facility and Meet the professional Staff.<br />\nDoor Prizes\, Snacks and Refreshments. &nbsp\;</strong></h3>\n
LOCATION:AccelAbility Physical Therapy 2691 Pelham Parkway\, Suite H Pelham\, AL 35124 205-685-1822
UID:e.145.5511
SEQUENCE:3
DTSTAMP:20260423T151227Z
URL:https://business.shelbychamber.org/events/details/accelability-physical-therapy-open-house-06-17-2014-5511
END:VEVENT

END:VCALENDAR
