BEGIN:VCALENDAR
VERSION:2.0
PRODID:-//ChamberMaster//Event Calendar 2.0//EN
METHOD:PUBLISH
X-PUBLISHED-TTL:P3D
REFRESH-INTERVAL:P3D
CALSCALE:GREGORIAN
BEGIN:VEVENT
DTSTART:20110721T210000Z
DTEND:20110721T230000Z
X-MICROSOFT-CDO-ALLDAYEVENT:FALSE
SUMMARY:Accelerated Physical Therapy Celebrates 5th Anniversary with Open House
DESCRIPTION:You are Invited to the 5th Year Anniversary for Accelerated Physical Therapy in Pelham!\n	\n		 \n	Todd Howatt\, and the associates at Accelerated Physical Therapy in Pelham\, invite you to join them in celebrating their 5th year anniversary with a ribbon cutting ceremony and open house on Thursday\, July 21st from 4 pm until 6 pm.\n\n	\n\n	Come prepared to enjoy seasonal refreshements\, cool beverages\, and door prizes being drawn every 15 minutes!  It's going to be a grand celebration.  Be sure to bring plenty of business cards for networking too!
X-ALT-DESC;FMTTYPE=text/html:<div>\n	<div align="left" dir="ltr">\n		<em><strong><font face="Arial" size="2">You are Invited to the 5th Year Anniversary for Accelerated Physical Therapy in Pelham!</font></strong></em></div>\n	<div align="left" dir="ltr">\n		&nbsp\;</div>\n	Todd Howatt\, and the associates at <a href="http://www.alabamarehabilitation.com/location.html">Accelerated Physical Therapy in Pelham</a>\, invite you to join them in celebrating their 5th year anniversary with a ribbon cutting ceremony and open house on Thursday\, July 21st from 4 pm until 6 pm.<br />\n	<br />\n	Come prepared to enjoy seasonal refreshements\, cool beverages\, and door prizes being drawn every 15 minutes!&nbsp\; It&#39\;s going to be a grand celebration.&nbsp\; Be sure to bring plenty of business cards for networking too!</div>\n
LOCATION:Accelerated Physical Therapy 2691 Pelham Parkway\, Ste B\, Pelham AL 35124 (205) 685-1822
UID:e.145.3469
SEQUENCE:3
DTSTAMP:20260425T232153Z
URL:https://business.shelbychamber.org/events/details/accelerated-physical-therapy-celebrates-5th-anniversary-with-open-house-07-21-2011-3469
END:VEVENT

END:VCALENDAR
