BEGIN:VCALENDAR
VERSION:2.0
PRODID:-//ChamberMaster//Event Calendar 2.0//EN
METHOD:PUBLISH
X-PUBLISHED-TTL:P3D
REFRESH-INTERVAL:P3D
CALSCALE:GREGORIAN
BEGIN:VEVENT
DTSTART:20161104T233000Z
DTEND:20161105T013000Z
X-MICROSOFT-CDO-ALLDAYEVENT:FALSE
SUMMARY:Acrylics 101: Find the artist in you
DESCRIPTION:Cassidy Cash will be here to teach you how to paint with acrylics.
X-ALT-DESC;FMTTYPE=text/html:Cassidy Cash will be here to teach you how to paint with acrylics.
LOCATION:North Shelby Library
UID:e.145.9786
SEQUENCE:3
DTSTAMP:20260421T151614Z
URL:https://business.shelbychamber.org/events/details/acrylics-101-find-the-artist-in-you-9786
END:VEVENT

END:VCALENDAR
