BEGIN:VCALENDAR
VERSION:2.0
PRODID:-//ChamberMaster//Event Calendar 2.0//EN
METHOD:PUBLISH
X-PUBLISHED-TTL:P3D
REFRESH-INTERVAL:P3D
CALSCALE:GREGORIAN
BEGIN:VEVENT
DTSTART:20110421T230000Z
DTEND:20110422T020000Z
X-MICROSOFT-CDO-ALLDAYEVENT:FALSE
SUMMARY:Advanced Painting
DESCRIPTION:Advanced Painting\n\n\n\nIf you can answer yes to three or more of the following statements\, then this advanced class is for you!\n\n\n\n1. I have been painting for a while now and I am ready for a more challenging studio class.\n\n2. I want my paintings critiqued by my instructor and classmates to help me grow as an artist.\n\n3. I am looking to find and develop "my" style.\n\n4. I would like to explore different "themes" in my artwork.\n\n5. I am ready for a faster pace in my studio class.\n\n6. I'm ready to start producing "original" work by using my own ideas\, sketches\, color studies and/or photographs.\n\n7. I like the idea of having a smaller class size where my painting instructor can mentor me.
X-ALT-DESC;FMTTYPE=text/html:Advanced Painting\n<br>\n<br>If you can answer yes to three or more of the following statements\, then this advanced class is for you!\n<br>\n<br>1. I have been painting for a while now and I am ready for a more challenging studio class.\n<br>2. I want my paintings critiqued by my instructor and classmates to help me grow as an artist.\n<br>3. I am looking to find and develop "my" style.\n<br>4. I would like to explore different "themes" in my artwork.\n<br>5. I am ready for a faster pace in my studio class.\n<br>6. I'm ready to start producing "original" work by using my own ideas\, sketches\, color studies and/or photographs.\n<br>7. I like the idea of having a smaller class size where my painting instructor can mentor me.
LOCATION:Shelby County Arts Council Studio 104 Mildred St Columbiana\, AL 35051
UID:e.145.2852
SEQUENCE:3
DTSTAMP:20260426T034143Z
URL:https://business.shelbychamber.org/events/details/advanced-painting-04-21-2011-2852
END:VEVENT

END:VCALENDAR
